BEGIN:VCALENDAR
VERSION:2.0
PRODID:-//ScaleUp Porto - ECPv5.1.5//NONSGML v1.0//EN
CALSCALE:GREGORIAN
METHOD:PUBLISH
X-WR-CALNAME:ScaleUp Porto
X-ORIGINAL-URL:https://scaleupporto.pt
X-WR-CALDESC:Events for ScaleUp Porto
BEGIN:VTIMEZONE
TZID:UTC
BEGIN:STANDARD
TZOFFSETFROM:+0000
TZOFFSETTO:+0000
TZNAME:UTC
DTSTART:20230101T000000
END:STANDARD
END:VTIMEZONE
BEGIN:VEVENT
DTSTART;TZID=UTC:20230505T180000
DTEND;TZID=UTC:20230506T183000
DTSTAMP:20260423T175119
CREATED:20230502T135001Z
LAST-MODIFIED:20230505T135040Z
UID:12498-1683309600-1683397800@scaleupporto.pt
SUMMARY:Women in Tech® Portugal Summit em 2023 - Porto
DESCRIPTION: \nA cidade do Porto foi escolhida para acolher a realização da Women in Tech® Portugal Summit em 2023\, nos dias 5 e 6 de maio\, contando com o apoio da Câmara Municipal do Porto\, através da Divisão de Empreendedorismo. \nEsta iniciativa encontra-se alinhada com o objetivo de estimular o espírito empreendedor e inovador da cidade e da Região Norte\, contribuindo para o desenvolvimento de um ecossistema plural e inclusivo! ? \nMais informações e registo sobre o Women in Tech Summit: aqui! \n
URL:https://scaleupporto.pt/event/women-in-tech-portugal-summit-em-2023/
LOCATION:Biblioteca Almeida Garrett\, Rua de Entre-Quintas 328
END:VEVENT
END:VCALENDAR