BEGIN:VCALENDAR
VERSION:2.0
PRODID:-//ScaleUp Porto - ECPv5.1.5//NONSGML v1.0//EN
CALSCALE:GREGORIAN
METHOD:PUBLISH
X-WR-CALNAME:ScaleUp Porto
X-ORIGINAL-URL:https://scaleupporto.pt
X-WR-CALDESC:Events for ScaleUp Porto
BEGIN:VTIMEZONE
TZID:Europe/Paris
BEGIN:DAYLIGHT
TZOFFSETFROM:+0100
TZOFFSETTO:+0200
TZNAME:CEST
DTSTART:20230326T010000
END:DAYLIGHT
BEGIN:STANDARD
TZOFFSETFROM:+0200
TZOFFSETTO:+0100
TZNAME:CET
DTSTART:20231029T010000
END:STANDARD
END:VTIMEZONE
BEGIN:VEVENT
DTSTART;VALUE=DATE:20230525
DTEND;VALUE=DATE:20230526
DTSTAMP:20260423T163450
CREATED:20230522T143145Z
LAST-MODIFIED:20230522T143145Z
UID:12537-1684972800-1685059199@scaleupporto.pt
SUMMARY:WARM - Worldwide Accelerators Rally at Matosinhos
DESCRIPTION: \nWARM\, the Worldwide Accelerators Rally at Matosinhos is an event that brings together innovation acceleration programs\, incubators and TTOs with investors\, companies\, and startups. \nThe event is organized by RESOLVE-Health (i3S)\, with the aim of fostering a collaborative movement in the health innovation ecosystem. \nWARM will take place on May 25\, at Terminal de Cruzeiros do Porto de Leixões\, in Matosinhos. \n  \n
URL:https://scaleupporto.pt/event/warm-worldwide-accelerators-rally-at-matosinhos/
LOCATION:Terminal de Cruzeiros do Porto de Leixões\, Av. Norton de Matos\, Matosinhos\, 4450\, Portugal
END:VEVENT
END:VCALENDAR