BEGIN:VCALENDAR
VERSION:2.0
PRODID:-//ScaleUp Porto - ECPv5.1.5//NONSGML v1.0//EN
CALSCALE:GREGORIAN
METHOD:PUBLISH
X-WR-CALNAME:ScaleUp Porto
X-ORIGINAL-URL:https://scaleupporto.pt
X-WR-CALDESC:Events for ScaleUp Porto
BEGIN:VTIMEZONE
TZID:UTC
BEGIN:STANDARD
TZOFFSETFROM:+0000
TZOFFSETTO:+0000
TZNAME:UTC
DTSTART:20200101T000000
END:STANDARD
END:VTIMEZONE
BEGIN:VEVENT
DTSTART;TZID=UTC:20201210T173000
DTEND;TZID=UTC:20201210T183000
DTSTAMP:20260423T130159
CREATED:20201129T224855Z
LAST-MODIFIED:20230310T135227Z
UID:11475-1607621400-1607625000@scaleupporto.pt
SUMMARY:The (im)perfect world of an UX on Agile
DESCRIPTION:João Rui Peixoto and Luís Ferreira\, Scrum Master and UX designer at Critical TechWorks will share their experience as members of an Agile Team that works with BMW shopfloor. \n
URL:https://scaleupporto.pt/event/the-imperfect-world-of-an-ux-on-agile/
END:VEVENT
END:VCALENDAR