BEGIN:VCALENDAR
VERSION:2.0
PRODID:-//ScaleUp Porto - ECPv5.1.5//NONSGML v1.0//EN
CALSCALE:GREGORIAN
METHOD:PUBLISH
X-WR-CALNAME:ScaleUp Porto
X-ORIGINAL-URL:https://scaleupporto.pt
X-WR-CALDESC:Events for ScaleUp Porto
BEGIN:VTIMEZONE
TZID:UTC
BEGIN:STANDARD
TZOFFSETFROM:+0000
TZOFFSETTO:+0000
TZNAME:UTC
DTSTART:20200101T000000
END:STANDARD
END:VTIMEZONE
BEGIN:VEVENT
DTSTART;TZID=UTC:20201203T173000
DTEND;TZID=UTC:20201203T183000
DTSTAMP:20260423T112358
CREATED:20201112T155704Z
LAST-MODIFIED:20230310T135217Z
UID:11465-1607016600-1607020200@scaleupporto.pt
SUMMARY:Software Architecture for Growth
DESCRIPTION:Shall we discuss how to design your software architecture so it allows you smooth growth? \nTo support the growth of your software-based product\, the design of the architecture cannot be neglected in order to assure safety\, reliability\, maintainability\, flexibility\, and so on.  \n In this Ask Me Anything session\, you can bring all your questions to our guests: \n– Jorge Silva\, Principal Software Architect\, Blip.pt \n– Ricardo Monteiro\, Head of Web Gaming Team\, FABAMAQ \nModerated by: \n– Gonçalo Queirós\, Head of Engineering\, Infraspeak \n___ \nRegister and leave your questions on the registration form before hand. You can also join the online session and react live\, introducing your doubts and questions.\n___ \nTogether with Porto Tech Hub\nThis session is promoted in partnership with Porto Tech Hub (PTH)\, a not-for-profit association of tech companies that aims to promote and grow Porto as a global technological centre of excellence. \nThe association was created by three well-established tech companies\, each one with strong connections to Porto: blip\, CRITICAL Software and Farfetch. \nThe goal of PTH was to develop and grow the city’s thriving tech scene to capture the imagination of the many talented individuals that the city plays host to\, bringing businesses and people together to celebrate the power of technology. \nThe association promotes a variety of initiatives and events throughout the years. It is designed to explore how technology can be used to develop individuals\, businesses and the wider community in Porto. The highlight of the calendar is the Porto Tech Hub conference. \n
URL:https://scaleupporto.pt/event/software-architecture-for-growth/
LOCATION:Online
CATEGORIES:Masterclass
ATTACH;FMTTYPE=image/jpeg:https://scaleupporto.pt/wp-content/uploads/2020/11/AMA-–-Jorge-Silva-Blip-–-Eventbrite.jpg
END:VEVENT
END:VCALENDAR