BEGIN:VCALENDAR
VERSION:2.0
PRODID:-//ScaleUp Porto - ECPv5.1.5//NONSGML v1.0//EN
CALSCALE:GREGORIAN
METHOD:PUBLISH
X-WR-CALNAME:ScaleUp Porto
X-ORIGINAL-URL:https://scaleupporto.pt
X-WR-CALDESC:Events for ScaleUp Porto
BEGIN:VTIMEZONE
TZID:UTC
BEGIN:STANDARD
TZOFFSETFROM:+0000
TZOFFSETTO:+0000
TZNAME:UTC
DTSTART:20190101T000000
END:STANDARD
END:VTIMEZONE
BEGIN:VEVENT
DTSTART;TZID=UTC:20191028T140000
DTEND;TZID=UTC:20191030T180000
DTSTAMP:20260423T154634
CREATED:20191011T122329Z
LAST-MODIFIED:20230310T135124Z
UID:9213-1572271200-1572458400@scaleupporto.pt
SUMMARY:Semana de Informática 2019
DESCRIPTION:A Semana de Informática (SINF)\, organizada pelo Núcleo de Informática da Associação de Estudantes da Faculdade de Engenharia da Universidade do Porto\, NIAEFEUP\, foi criada com o intuito de permitir aos estudantes\, independentemente do curso\, desenvolver as suas capacidades nas diversas áreas da Informática\, promovendo a sua interação com o mundo empresarial através de eventos sociais. \n
URL:https://scaleupporto.pt/event/semana-de-informatica-2019/
LOCATION:FEUP – Faculdade de Engenharia da Universidade do Porto\, Rua Dr. Roberto Frias\, s/n.\, Porto\, 4200-465\, Portugal
ATTACH;FMTTYPE=image/jpeg:https://scaleupporto.pt/wp-content/uploads/2018/02/events2.jpg
END:VEVENT
END:VCALENDAR