BEGIN:VCALENDAR
VERSION:2.0
PRODID:-//ScaleUp Porto - ECPv5.1.5//NONSGML v1.0//EN
CALSCALE:GREGORIAN
METHOD:PUBLISH
X-WR-CALNAME:ScaleUp Porto
X-ORIGINAL-URL:https://scaleupporto.pt
X-WR-CALDESC:Events for ScaleUp Porto
BEGIN:VTIMEZONE
TZID:UTC
BEGIN:STANDARD
TZOFFSETFROM:+0000
TZOFFSETTO:+0000
TZNAME:UTC
DTSTART:20200101T000000
END:STANDARD
END:VTIMEZONE
BEGIN:VEVENT
DTSTART;TZID=UTC:20200430T110000
DTEND;TZID=UTC:20200430T123000
DTSTAMP:20260419T141843
CREATED:20200421T092121Z
LAST-MODIFIED:20230310T135144Z
UID:10276-1588244400-1588249800@scaleupporto.pt
SUMMARY:Road to Doing Business - Startups & Mature Organizations Cooperation
DESCRIPTION:This kind of collaboration can be really fruitful. But there are\, certainly\, best practices that we can discuss and must consider. \nIn this session\, we will understand some processes for collaboration between startups and bigger mature organisations. \nOn a fluid conversation\, the guests will focus on the mature organizations perspective on innovation management based on the collaboration with startups. Case studies will be shared\, giving insights about possible challenges within the set-up\, execution and evaluation of pilots supporting to calibrate expectations when piloting with corporates. \n==================== \nAbout the Guests\nSonja Moosburger\nManaging Director at MediaMarktSaturn N3XT\, a subsidiary of the biggest consumer electronics retailer in Europe with brands like Media Markt and Saturn. Since 2014\, Sonja is testing new technologies such as robots and instore navigation with her team. She is also involved in the digitization of business models and processes as well as the related opportunities for the MediaMarktSaturn Group. Sonja worked in digitalization and retail even before joining the MediaMarktSaturn Group. A graduate in business administration specializing in retail\, her previous positions include management consultant at IBM Germany\, where she focused on strategy consulting. \n– \nRafael Pires\nRafael Pires is a software engineer interested in entrepreneurship\, innovation\, and product management. Rafael co-founded Startup X\, a non-profit organisation aiming to multiply the impact of entrepreneurs and startups all over the world. Startup X was responsible for programs like Startup Pirates\, a one week community driven pre-acceleration program for aspiring entrepreneurs and PortugalStartups.com\, an independent news blog with content about the Portuguese Startup Ecosystem (acquired by Espacio). Currently\, Rafael manages the IT Labs at Sonae MC (Bit)\, where he plans and executes experiments with startups. Additionally\, he also manages the tech experimentation and pilots team at Associação Porto Digital\, promoting the connection between startups and the city. \n==================== \nAbout the Road to Doing Business\nIn troubled times when collaboration can only bring an advantage to the ecosystem\, together with UPTEC\, ScaleUp Porto is promoting the 5th edition of Doing Business. In this activity\, startups and mature organizations look for synergies through a set of match-making meetings. \nBefore these meetings\, we are preparing a set of webinars where relevant topics will be discussed and will\, hopefully\, increase the chances of success in these meetings. These sessions were prepared considering the activity\, but everyone is invited to join in. \nExplore the full Road to Doing Business agenda and get ready to do some business!! \n\nThe strategy to define pricing\, April 27\, 11:00 am\nStrategic Sales Process\, April 28\, 11:00 am\nPitch – Comunicação e Expressão\, April 29\, 11:00 am (For logistical reasons\, this session is just for startups that will be part of Doing Business)\nStartups & Mature Organizations Cooperation\, April 30\, 11:00 am\nInnovation Strategy\, April 30\, 5:00 pm\n\n
URL:https://scaleupporto.pt/event/road-to-doing-business-startups-mature-organizations-cooperation/
LOCATION:Online
CATEGORIES:Masterclass
ATTACH;FMTTYPE=image/jpeg:https://scaleupporto.pt/wp-content/uploads/2020/04/DoingBusiness-–-Road-to-Doing-Eventbrite4-scaled.jpg
END:VEVENT
END:VCALENDAR