BEGIN:VCALENDAR
VERSION:2.0
PRODID:-//ScaleUp Porto - ECPv5.1.5//NONSGML v1.0//EN
CALSCALE:GREGORIAN
METHOD:PUBLISH
X-WR-CALNAME:ScaleUp Porto
X-ORIGINAL-URL:https://scaleupporto.pt
X-WR-CALDESC:Events for ScaleUp Porto
BEGIN:VTIMEZONE
TZID:UTC
BEGIN:STANDARD
TZOFFSETFROM:+0000
TZOFFSETTO:+0000
TZNAME:UTC
DTSTART:20200101T000000
END:STANDARD
END:VTIMEZONE
BEGIN:VEVENT
DTSTART;TZID=UTC:20200430T170000
DTEND;TZID=UTC:20200430T180000
DTSTAMP:20260423T105513
CREATED:20200421T092350Z
LAST-MODIFIED:20230310T135144Z
UID:10279-1588266000-1588269600@scaleupporto.pt
SUMMARY:Road to Doing Business - Innovation Strategy
DESCRIPTION:The process to implement and develop an innovation culture within an organization\, is seriously demanding. Startups can bring a lot to the table concerning pace\, technology and new ways of doing things. Together\, startups and mature organizations can understand how to identify opportunities\, and move initiatives from the idea stage to implementation. \nIn this session we will explore the first steps to make innovation happen with the right strategy to design\, develop and manage a 360º innovation ecosystem and dramatically increase your business innovation success rate. \n==================== \nAbout the Guest\nRui Coutinho\nFirestarter. Agent Provocateur. Strategist\, innovation and science manager\, professor\, researcher\, mentor and entrepreneur. At Porto Business School\, Rui the Executive Director for Innovation and Growth\, where he coordinates in-company executive education\, innovation\, entrepreneurship\, consultancy and intelligence activities and programs that try to look at the future to anticipate and understand what’s next for businesses and individuals. Rui Coutinho is the co-Director of the Executive MBI and professor of Innovation and Entrepreneurship at the Executive MBA and Magellan MBA (full time\, international program). \nPorto Business School\nThis session is promoted in partnership with Porto Business School (PBS). \nBased in the city of Porto\, PBS is a private and autonomous institution belonging to both to the University of Porto and 35 other organizations\, most of them multinational companies. \nWith a blend of the Executive pragmatism and experience with the Academic rigor\, research and access to leading edge technology\, PBS help clients and students to identify trends and future challenges\, rethink their strategy and develop new competencies to succeed in the future. \nPorto Business School is ranked in the Financial Times in the top 80 of the best business schools in the world. \n==================== \nAbout the Road to Doing Business\nIn troubled times when collaboration can only bring an advantage to the ecosystem\, together with UPTEC\, ScaleUp Porto is promoting the 5th edition of Doing Business. In this activity\, startups and mature organizations look for synergies through a set of match-making meetings. \nBefore these meetings\, we are preparing a set of webinars where relevant topics will be discussed and will\, hopefully\, increase the chances of success in these meetings. These sessions were prepared considering the activity\, but everyone is invited to join in. \nExplore the full Road to Doing Business agenda and get ready to do some business!! \n\nThe strategy to define pricing\, April 27\, 11:00 am\nStrategic Sales Process\, April 28\, 11:00 am\nPitch – Comunicação e Expressão\, April 29\, 11:00 am (For logistical reasons\, this session is just for startups that will be part of Doing Business)\nStartups & Mature Organizations Cooperation\, April 30\, 11:00 am\nInnovation Strategy\, April 30\, 5:00 pm\n\n
URL:https://scaleupporto.pt/event/road-to-doing-business-innovation-strategy/
LOCATION:Online
CATEGORIES:Masterclass
ATTACH;FMTTYPE=image/png:https://scaleupporto.pt/wp-content/uploads/2020/04/DoingBusiness-–-Road-to-Doing-Eventbrite5.png
END:VEVENT
END:VCALENDAR