BEGIN:VCALENDAR
VERSION:2.0
PRODID:-//ScaleUp Porto - ECPv5.1.5//NONSGML v1.0//EN
CALSCALE:GREGORIAN
METHOD:PUBLISH
X-WR-CALNAME:ScaleUp Porto
X-ORIGINAL-URL:https://scaleupporto.pt
X-WR-CALDESC:Events for ScaleUp Porto
BEGIN:VTIMEZONE
TZID:UTC
BEGIN:STANDARD
TZOFFSETFROM:+0000
TZOFFSETTO:+0000
TZNAME:UTC
DTSTART:20190101T000000
END:STANDARD
END:VTIMEZONE
BEGIN:VEVENT
DTSTART;TZID=UTC:20191103T100000
DTEND;TZID=UTC:20191103T130000
DTSTAMP:20260423T145516
CREATED:20191011T114912Z
LAST-MODIFIED:20230310T135124Z
UID:9211-1572775200-1572786000@scaleupporto.pt
SUMMARY:PyCoffee in Porto i/o
DESCRIPTION:PyCoffee is an experimental format of informal Python meetups\, organized by Python Porto in partnership with Porto i/o. \n
URL:https://scaleupporto.pt/event/pycoffee-in-porto-i-o-4/
LOCATION:Porto i/o Downtown\, Rua de Cândido dos Reis\, 81\, Porto\, 4050-152\, Portugal
ATTACH;FMTTYPE=image/jpeg:https://scaleupporto.pt/wp-content/uploads/2019/01/pyCoffee-porto-io.jpg
END:VEVENT
END:VCALENDAR