BEGIN:VCALENDAR
VERSION:2.0
PRODID:-//ScaleUp Porto - ECPv5.1.5//NONSGML v1.0//EN
CALSCALE:GREGORIAN
METHOD:PUBLISH
X-WR-CALNAME:ScaleUp Porto
X-ORIGINAL-URL:https://scaleupporto.pt
X-WR-CALDESC:Events for ScaleUp Porto
BEGIN:VTIMEZONE
TZID:UTC
BEGIN:STANDARD
TZOFFSETFROM:+0000
TZOFFSETTO:+0000
TZNAME:UTC
DTSTART:20190101T000000
END:STANDARD
END:VTIMEZONE
BEGIN:VEVENT
DTSTART;TZID=UTC:20190922T100000
DTEND;TZID=UTC:20190922T120000
DTSTAMP:20260423T172131
CREATED:20190905T161901Z
LAST-MODIFIED:20230310T135109Z
UID:9126-1569146400-1569153600@scaleupporto.pt
SUMMARY:PyCoffee in Porto i/o
DESCRIPTION:PyCoffee is an experimental format of informal Python meetups\, organized by Python Porto in partnership with Porto i/o. \n
URL:https://scaleupporto.pt/event/pycoffee-in-porto-i-o-3/
LOCATION:Porto i/o Downtown\, Rua de Cândido dos Reis\, 81\, Porto\, 4050-152\, Portugal
ATTACH;FMTTYPE=image/jpeg:https://scaleupporto.pt/wp-content/uploads/2019/01/pyCoffee-porto-io.jpg
END:VEVENT
END:VCALENDAR