BEGIN:VCALENDAR
VERSION:2.0
PRODID:-//ScaleUp Porto - ECPv5.1.5//NONSGML v1.0//EN
CALSCALE:GREGORIAN
METHOD:PUBLISH
X-WR-CALNAME:ScaleUp Porto
X-ORIGINAL-URL:https://scaleupporto.pt
X-WR-CALDESC:Events for ScaleUp Porto
BEGIN:VTIMEZONE
TZID:UTC
BEGIN:STANDARD
TZOFFSETFROM:+0000
TZOFFSETTO:+0000
TZNAME:UTC
DTSTART:20190101T000000
END:STANDARD
END:VTIMEZONE
BEGIN:VEVENT
DTSTART;TZID=UTC:20190928T083000
DTEND;TZID=UTC:20190928T193000
DTSTAMP:20260423T125400
CREATED:20190826T103519Z
LAST-MODIFIED:20230310T135124Z
UID:9080-1569659400-1569699000@scaleupporto.pt
SUMMARY:PWIT Hackathon
DESCRIPTION:8-hour hackathon\, happening on September 28th\, focused on developing innovative tech solutions for climate change\, with a special focus on: \n\nCircular Economy;\nMobility;\nFood Systems;\nWaste Management;\nExtreme Weather.\n\n
URL:https://scaleupporto.pt/event/pwit-hackathon/
LOCATION:Centro de Congressos da Alfândega\, Rua Nova da Alfândega - Edifício da Alfândega\, Porto\, Porto\, 4050-430 Porto\, Portugal
ATTACH;FMTTYPE=image/png:https://scaleupporto.pt/wp-content/uploads/2019/08/PWIT-Hackathon.png
END:VEVENT
END:VCALENDAR