BEGIN:VCALENDAR
VERSION:2.0
PRODID:-//ScaleUp Porto - ECPv5.1.5//NONSGML v1.0//EN
CALSCALE:GREGORIAN
METHOD:PUBLISH
X-WR-CALNAME:ScaleUp Porto
X-ORIGINAL-URL:https://scaleupporto.pt
X-WR-CALDESC:Events for ScaleUp Porto
BEGIN:VTIMEZONE
TZID:UTC
BEGIN:STANDARD
TZOFFSETFROM:+0000
TZOFFSETTO:+0000
TZNAME:UTC
DTSTART:20200101T000000
END:STANDARD
END:VTIMEZONE
BEGIN:VEVENT
DTSTART;TZID=UTC:20200218T183000
DTEND;TZID=UTC:20200218T203000
DTSTAMP:20260423T175109
CREATED:20200207T155344Z
LAST-MODIFIED:20230310T135145Z
UID:9626-1582050600-1582057800@scaleupporto.pt
SUMMARY:Portugal Tourism Minds - Q&A Session
DESCRIPTION:February 18th\, 18h30\, it will be hosted\, at Porto Design Factory\, a Question & Answer Session to clarify all your doubts about the “Tourism Design Business” and “Digital Fast-Track Tourism” accelerator programs. \nDigital Fast-Track Tourism is an accelerator program in digital strategies for companies and tourism destinations. \nTourism Design Business is an accelerator program to optimize business operations in the field of tourism. \nLearn more and apply at: www.portugaltourismminds.pgh.ipp.pt \n
URL:https://scaleupporto.pt/event/portugal-tourism-minds-qa-session/
LOCATION:Porto Design Factory\, Rua Dr. António Bernardino de Almeida\, 537\, Porto\, 4200-072\, Portugal
ATTACH;FMTTYPE=image/jpeg:https://scaleupporto.pt/wp-content/uploads/2020/02/84630174_592942297950336_3141792001775632384_o.jpg
END:VEVENT
END:VCALENDAR