BEGIN:VCALENDAR
VERSION:2.0
PRODID:-//ScaleUp Porto - ECPv5.1.5//NONSGML v1.0//EN
CALSCALE:GREGORIAN
METHOD:PUBLISH
X-WR-CALNAME:ScaleUp Porto
X-ORIGINAL-URL:https://scaleupporto.pt
X-WR-CALDESC:Events for ScaleUp Porto
BEGIN:VTIMEZONE
TZID:UTC
BEGIN:STANDARD
TZOFFSETFROM:+0000
TZOFFSETTO:+0000
TZNAME:UTC
DTSTART:20190101T000000
END:STANDARD
END:VTIMEZONE
BEGIN:VEVENT
DTSTART;TZID=UTC:20191012T100000
DTEND;TZID=UTC:20191012T170000
DTSTAMP:20260423T120642
CREATED:20191011T113742Z
LAST-MODIFIED:20230310T135124Z
UID:9201-1570874400-1570899600@scaleupporto.pt
SUMMARY:Porto Codes presents Hacktoberfest
DESCRIPTION:Hacktoberfest is a month-long celebration of open source software run by DigitalOcean and DEV. Hacktoberfest is open to everyone in our global community. To participate\, you must submit four pull requests to public GitHub repositories. \n
URL:https://scaleupporto.pt/event/porto-codes-presents-hacktoberfest/
LOCATION:Porto i/o Santa Catarina\, Rua de António Pedro 24
END:VEVENT
END:VCALENDAR