BEGIN:VCALENDAR
VERSION:2.0
PRODID:-//ScaleUp Porto - ECPv5.1.5//NONSGML v1.0//EN
CALSCALE:GREGORIAN
METHOD:PUBLISH
X-WR-CALNAME:ScaleUp Porto
X-ORIGINAL-URL:https://scaleupporto.pt
X-WR-CALDESC:Events for ScaleUp Porto
BEGIN:VTIMEZONE
TZID:Europe/Paris
BEGIN:DAYLIGHT
TZOFFSETFROM:+0100
TZOFFSETTO:+0200
TZNAME:CEST
DTSTART:20260329T010000
END:DAYLIGHT
BEGIN:STANDARD
TZOFFSETFROM:+0200
TZOFFSETTO:+0100
TZNAME:CET
DTSTART:20261025T010000
END:STANDARD
END:VTIMEZONE
BEGIN:VEVENT
DTSTART;VALUE=DATE:20260322
DTEND;VALUE=DATE:20260325
DTSTAMP:20260423T085135
CREATED:20260224T165636Z
LAST-MODIFIED:20260224T165636Z
UID:15169-1774137600-1774396799@scaleupporto.pt
SUMMARY:openBIM Hackathon 2026
DESCRIPTION:The openBIM Hackathon 2026 brings together developers\, engineers\, and BIM specialists for an intensive 48-hour building marathon. Using open standards like IFC\, BCF\, bSDD\, and IDS\, teams will create innovative solutions that push the boundaries of what’s possible in the built environment. \nHosted by buildingSMART International and taking place in the days leading up to the Porto Summit as part of its wider program\, winners will present their results to industry leaders from around the globe. \n
URL:https://scaleupporto.pt/event/openbim-hackathon-2026/
LOCATION:Centro de Congressos da Alfândega\, Rua Nova da Alfândega - Edifício da Alfândega\, Porto\, Porto\, 4050-430 Porto\, Portugal
ATTACH;FMTTYPE=image/png:https://scaleupporto.pt/wp-content/uploads/2026/02/Captura-de-pantalla-2026-02-24-175548.png
END:VEVENT
END:VCALENDAR