BEGIN:VCALENDAR
VERSION:2.0
PRODID:-//ScaleUp Porto - ECPv5.1.5//NONSGML v1.0//EN
CALSCALE:GREGORIAN
METHOD:PUBLISH
X-WR-CALNAME:ScaleUp Porto
X-ORIGINAL-URL:https://scaleupporto.pt
X-WR-CALDESC:Events for ScaleUp Porto
BEGIN:VTIMEZONE
TZID:UTC
BEGIN:STANDARD
TZOFFSETFROM:+0000
TZOFFSETTO:+0000
TZNAME:UTC
DTSTART:20200101T000000
END:STANDARD
END:VTIMEZONE
BEGIN:VEVENT
DTSTART;TZID=UTC:20200407T143000
DTEND;TZID=UTC:20200407T190000
DTSTAMP:20260423T144333
CREATED:20200403T153711Z
LAST-MODIFIED:20230310T135145Z
UID:10197-1586269800-1586286000@scaleupporto.pt
SUMMARY:Online Pitch Day
DESCRIPTION:Tough times don’t last. Tough ecosystems do. \nIn order to make our best under the current situation\, we’re launching an Online Pitch Day with Armilar Venture Partners\, Bright Pixel and LC Ventures. The event will be held remotely on April 7th\, from 14:30 to 17:00. \nThis initiative is a creative way to continue to support the Portuguese startups ecosystem on a joint effort between Bynd and other relevant investors in the market. \nFrom the pool of candidates\, the four investment teams will select a total of six startups to participate and pitch them through an online platform. Each startup will have a total of 10 minutes to present themselves and their solution\, followed by 10 minutes of Q&A. \nIf you are a founder of a technological startup based in Portugal and you are actively looking for funding\, you can apply by submitting your presentation on this online form until April 3rd at 23:59. \nAfter submission\, the selected startups will be privately notified on Monday. \n
URL:https://scaleupporto.pt/event/online-pitch-day/
LOCATION:Online
ATTACH;FMTTYPE=image/png:https://scaleupporto.pt/wp-content/uploads/2020/04/Online-Pitch-Day_Bynd_VC.png
END:VEVENT
END:VCALENDAR