BEGIN:VCALENDAR
VERSION:2.0
PRODID:-//ScaleUp Porto - ECPv5.1.5//NONSGML v1.0//EN
CALSCALE:GREGORIAN
METHOD:PUBLISH
X-WR-CALNAME:ScaleUp Porto
X-ORIGINAL-URL:https://scaleupporto.pt
X-WR-CALDESC:Events for ScaleUp Porto
BEGIN:VTIMEZONE
TZID:Europe/Paris
BEGIN:DAYLIGHT
TZOFFSETFROM:+0100
TZOFFSETTO:+0200
TZNAME:CEST
DTSTART:20240331T010000
END:DAYLIGHT
BEGIN:STANDARD
TZOFFSETFROM:+0200
TZOFFSETTO:+0100
TZNAME:CET
DTSTART:20241027T010000
END:STANDARD
END:VTIMEZONE
BEGIN:VEVENT
DTSTART;TZID=Europe/Paris:20240306T170000
DTEND;TZID=Europe/Paris:20240306T183000
DTSTAMP:20260423T174754
CREATED:20240229T100216Z
LAST-MODIFIED:20240229T100216Z
UID:13194-1709744400-1709749800@scaleupporto.pt
SUMMARY:Networking Event with Repsol Foundation's Acceleration Program
DESCRIPTION:Join us to meet with founders\, key stakeholders\, communities\, and professionals from the Porto entrepreneurship ecosystem. This event creates an opportunity for entrepreneurs to connect\, network\, and learn more about the “Repsol Foundation’s Acceleration Program” while enjoying good music\, food and drinks. \nThe Repsol Foundation’s Acceleration Program is an acceleration programme for startups that addresses the major challenges of a Sustainable Energy Transition. Participants in this program can conduct a pilot test\, receive funding (100/150k€) and many more benefits. This is an excellent chance for entrepreneurs to learn more about the program and connect with other professionals in the industry. \nTake advantage of this opportunity to network and learn more about the Repsol Foundation’s Acceleration Program with catering finger food and beer! \n
URL:https://scaleupporto.pt/event/networking-event-with-repsol-foundations-acceleration-program/
LOCATION:UPTEC\, Rua Alfredo Allen 455/461\, Porto\, 4200-135\, Portugal
END:VEVENT
END:VCALENDAR