BEGIN:VCALENDAR
VERSION:2.0
PRODID:-//ScaleUp Porto - ECPv5.1.5//NONSGML v1.0//EN
CALSCALE:GREGORIAN
METHOD:PUBLISH
X-WR-CALNAME:ScaleUp Porto
X-ORIGINAL-URL:https://scaleupporto.pt
X-WR-CALDESC:Events for ScaleUp Porto
BEGIN:VTIMEZONE
TZID:UTC
BEGIN:STANDARD
TZOFFSETFROM:+0000
TZOFFSETTO:+0000
TZNAME:UTC
DTSTART:20190101T000000
END:STANDARD
END:VTIMEZONE
BEGIN:VEVENT
DTSTART;TZID=UTC:20191019T140000
DTEND;TZID=UTC:20191019T180000
DTSTAMP:20260423T112319
CREATED:20191011T124008Z
LAST-MODIFIED:20230310T135124Z
UID:9215-1571493600-1571508000@scaleupporto.pt
SUMMARY:MINDERA | TECH DAY
DESCRIPTION:\n\n\n\nOn October 19th\, Mindera will open its doors and welcome everyone who wants to hear and learn about what they do from the people they love.\n\n\n\n\n\n\n\n
URL:https://scaleupporto.pt/event/mindera-tech-day/
LOCATION:Mindera\, Rua Gonçalo Cristóvão\, 347 - sala 404
ATTACH;FMTTYPE=image/png:https://scaleupporto.pt/wp-content/uploads/2019/10/Mindera.png
END:VEVENT
END:VCALENDAR