BEGIN:VCALENDAR
VERSION:2.0
PRODID:-//ScaleUp Porto - ECPv5.1.5//NONSGML v1.0//EN
CALSCALE:GREGORIAN
METHOD:PUBLISH
X-WR-CALNAME:ScaleUp Porto
X-ORIGINAL-URL:https://scaleupporto.pt
X-WR-CALDESC:Events for ScaleUp Porto
BEGIN:VTIMEZONE
TZID:UTC
BEGIN:STANDARD
TZOFFSETFROM:+0000
TZOFFSETTO:+0000
TZNAME:UTC
DTSTART:20230101T000000
END:STANDARD
END:VTIMEZONE
BEGIN:VEVENT
DTSTART;TZID=UTC:20230330T103000
DTEND;TZID=UTC:20230330T123000
DTSTAMP:20260423T150620
CREATED:20230321T085441Z
LAST-MODIFIED:20230322T155652Z
UID:12413-1680172200-1680179400@scaleupporto.pt
SUMMARY:Meetups em Empresas - Porminho - AEP
DESCRIPTION: \nVenha conhecer a Porminho Alimentação\, S.A.\, uma referência nacional com mais de 30 anos de atuação no setor agroalimentar e que conquistou o seu lugar no mercado com mérito próprio e com a tenacidade de querer vencer. \nO encontro conta com a presença e testemunho de Tiago Freitas\, Administrador da Porminho\, que vai partilhar as experiências profissionais mais relevantes da empresa assim como todo o seu percurso enquanto empreendedor e empresário. \n  \nA participação é gratuita (online)\, com inscrição obrigatória. \n
URL:https://scaleupporto.pt/event/meetups-em-empresas-porminho-aep/
END:VEVENT
END:VCALENDAR