BEGIN:VCALENDAR
VERSION:2.0
PRODID:-//ScaleUp Porto - ECPv5.1.5//NONSGML v1.0//EN
CALSCALE:GREGORIAN
METHOD:PUBLISH
X-WR-CALNAME:ScaleUp Porto
X-ORIGINAL-URL:https://scaleupporto.pt
X-WR-CALDESC:Events for ScaleUp Porto
BEGIN:VTIMEZONE
TZID:UTC
BEGIN:STANDARD
TZOFFSETFROM:+0000
TZOFFSETTO:+0000
TZNAME:UTC
DTSTART:20230101T000000
END:STANDARD
END:VTIMEZONE
BEGIN:VEVENT
DTSTART;TZID=UTC:20230427T143000
DTEND;TZID=UTC:20230427T163000
DTSTAMP:20260423T150427
CREATED:20230411T091954Z
LAST-MODIFIED:20230411T091954Z
UID:12476-1682605800-1682613000@scaleupporto.pt
SUMMARY:Meetups em Empresas - Critical Software - AEP
DESCRIPTION: \nA próxima empresa convidada dos Meetups em Empresas é a Critical Software\, uma empresa portuguesa que fornece sistemas e serviços de software para aplicações de segurança. \nDurante a sessão online\, os empreendedores poderão conhecer melhor a empresa e o universo em que opera\, bem como trocar ideias e esclarecer dúvidas com o CEO e Cofundador da Critical Software\, Joao Carreira. Não percas! \nA participação é gratuita (online)\, com inscrição obrigatória. \n
URL:https://scaleupporto.pt/event/meetups-em-empresas-critical-software-aep/
END:VEVENT
END:VCALENDAR