BEGIN:VCALENDAR
VERSION:2.0
PRODID:-//ScaleUp Porto - ECPv5.1.5//NONSGML v1.0//EN
CALSCALE:GREGORIAN
METHOD:PUBLISH
X-WR-CALNAME:ScaleUp Porto
X-ORIGINAL-URL:https://scaleupporto.pt
X-WR-CALDESC:Events for ScaleUp Porto
BEGIN:VTIMEZONE
TZID:UTC
BEGIN:STANDARD
TZOFFSETFROM:+0000
TZOFFSETTO:+0000
TZNAME:UTC
DTSTART:20230101T000000
END:STANDARD
END:VTIMEZONE
BEGIN:VEVENT
DTSTART;TZID=UTC:20230417T103000
DTEND;TZID=UTC:20230417T123000
DTSTAMP:20260423T163357
CREATED:20230411T091733Z
LAST-MODIFIED:20230411T091733Z
UID:12471-1681727400-1681734600@scaleupporto.pt
SUMMARY:Meetups em Empresas - Adalberto Textile Solutions - AEP
DESCRIPTION: \nA próxima convidada dos Meetups em Empresas é a Adalberto Textile Solutions\, uma empresa têxtil portuguesa que aposta no design\, criatividade e inovação como fatores de diferenciação. \nMário Jorge Machado\, administrador da Adalberto e também presidente da ATP (Associação Têxtil e Vestuário de Portugal)\, é o orador convidado desta sessão\, que se realiza no âmbito do projeto Desafios 5.0. \n  \nA participação é gratuita (online)\, com inscrição obrigatória. \n
URL:https://scaleupporto.pt/event/meetups-em-empresas-adalberto-textile-solutions-aep/
END:VEVENT
END:VCALENDAR