BEGIN:VCALENDAR
VERSION:2.0
PRODID:-//ScaleUp Porto - ECPv5.1.5//NONSGML v1.0//EN
CALSCALE:GREGORIAN
METHOD:PUBLISH
X-WR-CALNAME:ScaleUp Porto
X-ORIGINAL-URL:https://scaleupporto.pt
X-WR-CALDESC:Events for ScaleUp Porto
BEGIN:VTIMEZONE
TZID:UTC
BEGIN:STANDARD
TZOFFSETFROM:+0000
TZOFFSETTO:+0000
TZNAME:UTC
DTSTART:20190101T000000
END:STANDARD
END:VTIMEZONE
BEGIN:VEVENT
DTSTART;TZID=UTC:20190927T093000
DTEND;TZID=UTC:20190927T130000
DTSTAMP:20260423T100201
CREATED:20190905T142149Z
LAST-MODIFIED:20230310T135109Z
UID:9099-1569576600-1569589200@scaleupporto.pt
SUMMARY:MASTERCLASS | Leadership is Everybody's Business
DESCRIPTION:It’s no secret anymore and one cannot overlook this – building great companies requires the good old hard skills\, but you have to develop your soft skills as well. \nLeading is not only a matter of understanding strategy\, product and business. Great leaders always keep on improving their communication and human relationships. \nWe may call this a Masterclass\, but we could call it training\, workshop\, work session and many other things – here you will be doing exercises to learn some techniques that will help you keep improving your people skills and your role as a leader. \nWho should attend?\n\nPeople who work in HR or have team management responsibilities;\nProfessionals in a context of rapid growth and/or change\, particularly in startups.\n\nOur Guest\nInês Garrido is a trained actress who has been developing leadership bootcamps\, supporting the development of the relationship between voice\, body and speech. She’s been working with companies\, namely\, in the tech world. \nA session supported by…\nTo organize this session\, we had the amazing support of Sofia Matos\, Head of People & Culture at Infraspeak\, and Luís Silva\, Head of People & International Brand at FABAMAQ and Co-Founder of P4P – A People for People Community. Thank you!! \n
URL:https://scaleupporto.pt/event/masterclass-leadership-is-everybodys-business/
LOCATION:Pólo Zero\, Rua São Filipe de Nery\, nº 87\, Porto\, 4050-546\, Portugal
CATEGORIES:Masterclass
ATTACH;FMTTYPE=image/png:https://scaleupporto.pt/wp-content/uploads/2019/09/Leadership.png
END:VEVENT
END:VCALENDAR