BEGIN:VCALENDAR
VERSION:2.0
PRODID:-//ScaleUp Porto - ECPv5.1.5//NONSGML v1.0//EN
CALSCALE:GREGORIAN
METHOD:PUBLISH
X-WR-CALNAME:ScaleUp Porto
X-ORIGINAL-URL:https://scaleupporto.pt
X-WR-CALDESC:Events for ScaleUp Porto
BEGIN:VTIMEZONE
TZID:UTC
BEGIN:STANDARD
TZOFFSETFROM:+0000
TZOFFSETTO:+0000
TZNAME:UTC
DTSTART:20190101T000000
END:STANDARD
END:VTIMEZONE
BEGIN:VEVENT
DTSTART;TZID=UTC:20191022T093000
DTEND;TZID=UTC:20191022T123000
DTSTAMP:20260423T112706
CREATED:20190905T142716Z
LAST-MODIFIED:20230310T135124Z
UID:9105-1571736600-1571747400@scaleupporto.pt
SUMMARY:MASTERCLASS | Improving the Corporate/Startup Relationship
DESCRIPTION:\n\n\n\nExploring some case studies of collaboration between startups a bigger organizations.\n\n\n\n\n\n\n\n\nAbout the Guest\nSonja Moosburger \nManaging Director at MediaMarktSaturn N3XT\, a subsidiary of the biggest consumer electronics retailer in Europe with brands like Media Markt and Saturn. Since 2014\, Sonja is testing new technologies such as robots and instore navigation with her team. She is also involved in the digitization of business models and processes as well as the related opportunities for the MediaMarktSaturn Group. Sonja worked in digitalization and retail even before joining the MediaMarktSaturn Group. A graduate in business administration specializing in retail\, her previous positions include management consultant at IBM Germany\, where she focused on strategy consulting. \n\n\n\n\n
URL:https://scaleupporto.pt/event/masterclass-improving-the-corporate-startup-relationship/
LOCATION:Porto Innovation Hub\, Largo Tito Fontes 15\, Porto\, 4000-124\, Portugal
CATEGORIES:Masterclass
ATTACH;FMTTYPE=image/png:https://scaleupporto.pt/wp-content/uploads/2019/09/Corporate.png
END:VEVENT
END:VCALENDAR