BEGIN:VCALENDAR
VERSION:2.0
PRODID:-//ScaleUp Porto - ECPv5.1.5//NONSGML v1.0//EN
CALSCALE:GREGORIAN
METHOD:PUBLISH
X-WR-CALNAME:ScaleUp Porto
X-ORIGINAL-URL:https://scaleupporto.pt
X-WR-CALDESC:Events for ScaleUp Porto
BEGIN:VTIMEZONE
TZID:UTC
BEGIN:STANDARD
TZOFFSETFROM:+0000
TZOFFSETTO:+0000
TZNAME:UTC
DTSTART:20200101T000000
END:STANDARD
END:VTIMEZONE
BEGIN:VEVENT
DTSTART;TZID=UTC:20201109T110000
DTEND;TZID=UTC:20201109T120000
DTSTAMP:20260423T103416
CREATED:20201102T101027Z
LAST-MODIFIED:20230310T135217Z
UID:11441-1604919600-1604923200@scaleupporto.pt
SUMMARY:Masterclass - How to pitch your game
DESCRIPTION:Bring your best game when pitching your game and your business to potential partners. \nThe importance of a good pitch is well known to everyone. Each industry is different and every pitch must be adapted to meet your goals. If you are looking for an investor or a partner that will help you with funds and expertise to take your game to the market\, you must show them your value and your potential. \nGwen Foster\, a senior BizDev with great experience in the gaming industry\, will provide tips and recommendations about how you should pitch your game to potential partners.  \n__ \nThis Masterclass is taking place as a preparation session for game developers participating in an edition of Doing Business\, dedicated to the Gaming industry. It is also part of the Indie X 2020 agenda\, and you are also invited to join!  \nScaleUp Porto partnered with Indie X to facilitate B2B match-making sessions to selected gaming teams\, and to support the development and promotion of this very special ecosystem in the region. \nAbout the Guest\nGwen Foster is a Senior BizDev at Robot Teddy\, working closely with SUPERHOT. She previously worked as a Senior Producer for independent game companies in Southeast Asia while organizing for IGDA Philippines – Manila Chapter\, and eventually joining Global Game Jam’s Executive Committee and serving as the Regional Chapter Coordinator for Asia-Pacific for IGDA. \nTogether with\nIndie X is Portugal’s biggest indie game showcase\, and aims to promote the best indie games that Portugal has to offer as well as a selection of international indies who tag along for an awesome showcase with tons of experience sharing. \n________________________ \nMEET THE GAMING & GAMBLING TECH ECOSYSTEM IN PORTO\n
URL:https://scaleupporto.pt/event/masterclass-how-to-pitch-your-game/
CATEGORIES:Masterclass
ATTACH;FMTTYPE=image/jpeg:https://scaleupporto.pt/wp-content/uploads/2020/11/masterclass.jpeg
END:VEVENT
END:VCALENDAR