BEGIN:VCALENDAR
VERSION:2.0
PRODID:-//ScaleUp Porto - ECPv5.1.5//NONSGML v1.0//EN
CALSCALE:GREGORIAN
METHOD:PUBLISH
X-WR-CALNAME:ScaleUp Porto
X-ORIGINAL-URL:https://scaleupporto.pt
X-WR-CALDESC:Events for ScaleUp Porto
BEGIN:VTIMEZONE
TZID:UTC
BEGIN:STANDARD
TZOFFSETFROM:+0000
TZOFFSETTO:+0000
TZNAME:UTC
DTSTART:20200101T000000
END:STANDARD
END:VTIMEZONE
BEGIN:VEVENT
DTSTART;TZID=UTC:20200618T110000
DTEND;TZID=UTC:20200618T120000
DTSTAMP:20260423T103704
CREATED:20200521T082425Z
LAST-MODIFIED:20230310T135144Z
UID:10598-1592478000-1592481600@scaleupporto.pt
SUMMARY:Masterclass | How to achieve and measure product-market fit?
DESCRIPTION:Big changes have recently happened really fast. \nStartups are constantly adapting to find the right target segments and markets for their products and services. Technology\, customer needs and market dynamics evolve fast and therefore the startups need to be nimble and keep adjusting their value proposition and business models to the new realities. The important thing is to guarantee that the company keeps growing and delivering real value to its customers\, while also remaining financially healthy and sustainable. Rohan Garg\, VP of Product at Kununu\, will share some tips on how you can understand your customer needs and find the right product-market fit for your business. \nAbout the Guest\nRohan Garg is VP of Product at Kununu. Before Kununu\, Rohan took up multiple tech and product roles across various internet companies and also co-founded two startups\, Gymondo.de and Buyingshow.com. \nTogether with\nThis event is organized in partnership with the Product Management Nights Porto\, a group for product managers and people working/interested in product management. \nThe Product Management Nights are organized for the PM community by Product Management Festival Ambassadors. They meet during social informal “Product Nights” in Porto to exchange ideas & thoughts\, learn\, share experiences all around Product Management and connect. \n
URL:https://scaleupporto.pt/event/masterclass-how-to-achieve-and-measure-product-market-fit/
LOCATION:Online
CATEGORIES:Masterclass
ATTACH;FMTTYPE=image/png:https://scaleupporto.pt/wp-content/uploads/2020/05/Masterclass-Layout-1920x1080-Facebook-event.png
END:VEVENT
END:VCALENDAR