BEGIN:VCALENDAR
VERSION:2.0
PRODID:-//ScaleUp Porto - ECPv5.1.5//NONSGML v1.0//EN
CALSCALE:GREGORIAN
METHOD:PUBLISH
X-WR-CALNAME:ScaleUp Porto
X-ORIGINAL-URL:https://scaleupporto.pt
X-WR-CALDESC:Events for ScaleUp Porto
BEGIN:VTIMEZONE
TZID:UTC
BEGIN:STANDARD
TZOFFSETFROM:+0000
TZOFFSETTO:+0000
TZNAME:UTC
DTSTART:20190101T000000
END:STANDARD
END:VTIMEZONE
BEGIN:VEVENT
DTSTART;TZID=UTC:20191014T093000
DTEND;TZID=UTC:20191014T123000
DTSTAMP:20260423T103446
CREATED:20190905T142520Z
LAST-MODIFIED:20230310T135124Z
UID:9102-1571045400-1571056200@scaleupporto.pt
SUMMARY:MASTERCLASS | Growing and Managing Remote Teams
DESCRIPTION:\n\n\n\nMarcus Wermuth and Gonçalo Hall – Two great guests will share some stories and tips to create and manage remote teams in the tech world.\n\n\n\n\n\n\n\n\nAgenda\n9:30 – 11:00 \nBeyond Avatars – Managing a team of fully distributed teammates\, with Marcus Wermuth \nThere are a lot of unique challenges when working with a fully distributed team. Marcus Wermuth\, Engineering Manager at Buffer\, is sharing how he’s been able to enable his team of remote workers around the world to embrace leadership\, communicate openly\, break through artificial harmony\, and create a space where feedback and discussions are a priority. \n11:00-11:15 \nCoffee-break \n11:15-12:30 \nHow to implement remote work in your company\, with Gonçalo Hall \n\nAbout the Guests\nMarcus Wermuth \nMarcus is a big advocate for Remote Work. He manages the mobile team at Buffer\, a tech company with a fully distributed team of 82 people living and working in 15 countries around the world. His day to day work covers areas from Engineering Management to Product Management. \nGonçalo Hall \nGonçalo has been helping companies and individuals to successfully work remotely and grow their business. On his free time\, he interviews remote work thought leaders to his podcast\, The Remote Work Movement Podcast. Gonçalo organizes workshops and speaks at several events to help shift the mentality of people and organizations. \n\n\n\n\n
URL:https://scaleupporto.pt/event/masterclass-growing-and-managing-remote-teams/
LOCATION:Porto Innovation Hub\, Largo Tito Fontes 15\, Porto\, 4000-124\, Portugal
CATEGORIES:Masterclass
ATTACH;FMTTYPE=image/png:https://scaleupporto.pt/wp-content/uploads/2019/09/Remote-teams.png
END:VEVENT
END:VCALENDAR