BEGIN:VCALENDAR
VERSION:2.0
PRODID:-//ScaleUp Porto - ECPv5.1.5//NONSGML v1.0//EN
CALSCALE:GREGORIAN
METHOD:PUBLISH
X-WR-CALNAME:ScaleUp Porto
X-ORIGINAL-URL:https://scaleupporto.pt
X-WR-CALDESC:Events for ScaleUp Porto
BEGIN:VTIMEZONE
TZID:UTC
BEGIN:STANDARD
TZOFFSETFROM:+0000
TZOFFSETTO:+0000
TZNAME:UTC
DTSTART:20200101T000000
END:STANDARD
END:VTIMEZONE
BEGIN:VEVENT
DTSTART;TZID=UTC:20201109T140000
DTEND;TZID=UTC:20201109T150000
DTSTAMP:20260423T103358
CREATED:20201102T100800Z
LAST-MODIFIED:20230310T135217Z
UID:11438-1604930400-1604934000@scaleupporto.pt
SUMMARY:Masterclass - Game Design do's and don'ts
DESCRIPTION:Creating compelling stories\, characters\, goals\, rules and challenges\, from prototype to product. \nLearn how what to do and what not to do when designing a game from the co-creator of hits like Ridiculous Fishing\, Nuclear Throne\, Super Crate Box\, and Luftrausers. \n___ \nThis Masterclass is taking place as a preparation session for game developers participating in an edition of Doing Business dedicated to the Gaming industry. It is part of the Indie X 2020 agenda\, and you are also invited to join!  \n___ \nAbout the Guest\nRami Ismail is a Dutch-Egyptian independent games & tool developer with over 20 titles across PC\, console\, web\, and mobile. The co-founder of the influential now-retired indie games studio Vlambeer\, worked on award-winning and genre-defining games such as Ridiculous Fishing and Nuclear Throne. His development of tools like the industry-standard dopresskit.com\, his prolific & popular public speaking\, and highly-regarded consultancy and insights have helped shape industry opportunities for game communities & independent game developers worldwide. Rami continues to advocate the creation of a fairer and more equal industry for developers anywhere through his work at gamedev.world. His versatility and work resulted in him receiving a wide range of recognition\, including the Game Developers Choice Ambassador Award\, the IndieCade Gamechanger Award\, and a Forbes 30 Under 30 nomination. \n___ \nTogether with\nIndie X is Portugal’s biggest indie game showcase\, and aims to promote the best indie games that Portugal has to offer as well as a selection of international indies who tag along for an awesome showcase with tons of experience sharing. \nScaleUp Porto partnered with Indie X to facilitate B2B match-making sessions to selected gaming teams\, and to support the development and promotion of this very special ecosystem in the region. \n
URL:https://scaleupporto.pt/event/masterclass-game-design-dos-and-donts/
CATEGORIES:Masterclass
ATTACH;FMTTYPE=image/jpeg:https://scaleupporto.pt/wp-content/uploads/2020/11/MasterClass-–-Rami-Ismail-Linkedin-1.jpg
END:VEVENT
END:VCALENDAR