BEGIN:VCALENDAR
VERSION:2.0
PRODID:-//ScaleUp Porto - ECPv5.1.5//NONSGML v1.0//EN
CALSCALE:GREGORIAN
METHOD:PUBLISH
X-WR-CALNAME:ScaleUp Porto
X-ORIGINAL-URL:https://scaleupporto.pt
X-WR-CALDESC:Events for ScaleUp Porto
BEGIN:VTIMEZONE
TZID:Europe/Paris
BEGIN:DAYLIGHT
TZOFFSETFROM:+0100
TZOFFSETTO:+0200
TZNAME:CEST
DTSTART:20240331T010000
END:DAYLIGHT
BEGIN:STANDARD
TZOFFSETFROM:+0200
TZOFFSETTO:+0100
TZNAME:CET
DTSTART:20241027T010000
END:STANDARD
END:VTIMEZONE
BEGIN:VEVENT
DTSTART;VALUE=DATE:20240628
DTEND;VALUE=DATE:20240629
DTSTAMP:20260423T172915
CREATED:20240620T125733Z
LAST-MODIFIED:20240620T125935Z
UID:13471-1719532800-1719619199@scaleupporto.pt
SUMMARY:KPMG Private Enterprise Tech Innovator in Portugal [data limite para candidaturas]
DESCRIPTION:Estás pronto para revelar o teu potencial em inovação tecnológica? \n\n\n\n\nSe sim\, então participar na quarta edição do KPMG Private Enterprise Tech Innovator in Portugal é uma oportunidade que não podes perder! \n\n\n\n\n\nO KPMG Private Enterprise Tech Innovator é uma competição organizada por várias firmas-membro da rede KPMG\, com o objetivo de incentivar as startups a acelerarem o seu percurso empresarial e de destacar os fundadores e as suas soluções tecnológicas a nível mundial. Durante – e após – a competição\, podem contar com o apoio\, orientação e experiência de uma vasta rede de profissionais de negócios. \nNa KPMG\, valorizamos os empreendedores tecnológicos que estão prontos para mudar o futuro. Se desenvolveste uma inovação ou solução tecnológica que pode fazer a diferença no mundo\, participar no KPMG Private Enterprise Tech Innovator pode ajudar a colocar-te no radar de especialistas da indústria\, investidores e potenciais parceiros nacionais e globais. \nSe estás pronto para elevar a tua tecnologia e o teu negócio ao o próximo nível\, esta é a oportunidade que estavas à procura. \nMais informações aqui. \n\n\n\n\n\n
URL:https://scaleupporto.pt/event/kpmg-private-enterprise-tech-innovator-in-portugal-data-limite-para-candidaturas/
END:VEVENT
END:VCALENDAR