BEGIN:VCALENDAR
VERSION:2.0
PRODID:-//ScaleUp Porto - ECPv5.1.5//NONSGML v1.0//EN
CALSCALE:GREGORIAN
METHOD:PUBLISH
X-WR-CALNAME:ScaleUp Porto
X-ORIGINAL-URL:https://scaleupporto.pt
X-WR-CALDESC:Events for ScaleUp Porto
BEGIN:VTIMEZONE
TZID:UTC
BEGIN:STANDARD
TZOFFSETFROM:+0000
TZOFFSETTO:+0000
TZNAME:UTC
DTSTART:20200101T000000
END:STANDARD
END:VTIMEZONE
BEGIN:VEVENT
DTSTART;TZID=UTC:20201214T063000
DTEND;TZID=UTC:20201214T203000
DTSTAMP:20260423T160328
CREATED:20201129T224657Z
LAST-MODIFIED:20230310T135227Z
UID:11472-1607927400-1607977800@scaleupporto.pt
SUMMARY:Jamstack OPO #13 | Building Fullstack Jamstack Applications with RedwoodJS
DESCRIPTION:
URL:https://scaleupporto.pt/event/jamstack-opo-13-building-fullstack-jamstack-applications-with-redwoodjs/
ATTACH;FMTTYPE=image/png:https://scaleupporto.pt/wp-content/uploads/2020/11/jamstack.png
END:VEVENT
END:VCALENDAR