BEGIN:VCALENDAR
VERSION:2.0
PRODID:-//ScaleUp Porto - ECPv5.1.5//NONSGML v1.0//EN
CALSCALE:GREGORIAN
METHOD:PUBLISH
X-WR-CALNAME:ScaleUp Porto
X-ORIGINAL-URL:https://scaleupporto.pt
X-WR-CALDESC:Events for ScaleUp Porto
BEGIN:VTIMEZONE
TZID:UTC
BEGIN:STANDARD
TZOFFSETFROM:+0000
TZOFFSETTO:+0000
TZNAME:UTC
DTSTART:20190101T000000
END:STANDARD
END:VTIMEZONE
BEGIN:VEVENT
DTSTART;TZID=UTC:20190921T150000
DTEND;TZID=UTC:20190921T200000
DTSTAMP:20260423T190232
CREATED:20190910T144003Z
LAST-MODIFIED:20230310T135109Z
UID:9153-1569078000-1569096000@scaleupporto.pt
SUMMARY:Introdução ao Design Thinking
DESCRIPTION:Vivemos um tempo de inovação. E mais do que isso\, precisamos inovar de forma colaborativa. O Design Thinking é uma metodologia cheia de recursos e ferramentas que almejam empoderar o trabalho em grupo e estimular o pensamento criativo. \nSão muitas as ferramentas que compõem este método\, e por isso nós organizamos uma oficina que pode oferecer uma visão panorâmica do processo. \nDesenvolvido por investigadores no mundo todo e especialmente pelo MIT\, o Design Thinking foi abraçado por grandes corporações como Google\, IBM e até mesmo a NASA. \n
URL:https://scaleupporto.pt/event/introducao-ao-design-thinking-2/
LOCATION:FabLab Porto\, Rua António Carneiro\, 302-R\, Porto\, 4300-025\, Portugal
ATTACH;FMTTYPE=image/jpeg:https://scaleupporto.pt/wp-content/uploads/2019/09/fablab-design-thinking.jpg
END:VEVENT
END:VCALENDAR