BEGIN:VCALENDAR
VERSION:2.0
PRODID:-//ScaleUp Porto - ECPv5.1.5//NONSGML v1.0//EN
CALSCALE:GREGORIAN
METHOD:PUBLISH
X-WR-CALNAME:ScaleUp Porto
X-ORIGINAL-URL:https://scaleupporto.pt
X-WR-CALDESC:Events for ScaleUp Porto
BEGIN:VTIMEZONE
TZID:UTC
BEGIN:STANDARD
TZOFFSETFROM:+0000
TZOFFSETTO:+0000
TZNAME:UTC
DTSTART:20200101T000000
END:STANDARD
END:VTIMEZONE
BEGIN:VEVENT
DTSTART;TZID=UTC:20201020T153000
DTEND;TZID=UTC:20201020T163000
DTSTAMP:20260423T145332
CREATED:20201015T114829Z
LAST-MODIFIED:20230310T135217Z
UID:11354-1603207800-1603211400@scaleupporto.pt
SUMMARY:Innovate Service Cloud with Chatbots
DESCRIPTION:
URL:https://scaleupporto.pt/event/innovate-service-cloud-with-chatbots/
ATTACH;FMTTYPE=image/png:https://scaleupporto.pt/wp-content/uploads/2020/10/oracle.png
END:VEVENT
END:VCALENDAR