BEGIN:VCALENDAR
VERSION:2.0
PRODID:-//ScaleUp Porto - ECPv5.1.5//NONSGML v1.0//EN
CALSCALE:GREGORIAN
METHOD:PUBLISH
X-WR-CALNAME:ScaleUp Porto
X-ORIGINAL-URL:https://scaleupporto.pt
X-WR-CALDESC:Events for ScaleUp Porto
BEGIN:VTIMEZONE
TZID:UTC
BEGIN:STANDARD
TZOFFSETFROM:+0000
TZOFFSETTO:+0000
TZNAME:UTC
DTSTART:20200101T000000
END:STANDARD
END:VTIMEZONE
BEGIN:VEVENT
DTSTART;TZID=UTC:20200218T180000
DTEND;TZID=UTC:20200218T190000
DTSTAMP:20260423T175243
CREATED:20200206T143753Z
LAST-MODIFIED:20230310T135145Z
UID:9623-1582048800-1582052400@scaleupporto.pt
SUMMARY:I-Legal Chat: The Art to Start Up Well
DESCRIPTION:??? ??? ?? ????? ?? ???? \nIn a context where technology is the twenty-first century’s gold\, the entrepreneurship and avant-garde projects are related to robotics\, to new technologies\, to the Internet of Things\, there being many innovative ideas. \nThe main asset of a start-up is its inventive project. Without an appropriate protection of rights\, a start-up with a project that is tailored to succeed may quickly turn into a fail-up. \nFurthermore\, without investing in an appropriate tax planning\, they may end up in a tax nightmare\, against the interest of their investors and in the lack of an economic return. \n
URL:https://scaleupporto.pt/event/i-legal-chat-the-art-to-start-up-well/
LOCATION:Porto Business School\, Avenida Fabril do Norte\, 425\, Matosinhos\, 4460-314\, Portugal
ATTACH;FMTTYPE=image/jpeg:https://scaleupporto.pt/wp-content/uploads/2020/02/84739641_1175085849497624_6862831798787768320_o.jpg
END:VEVENT
END:VCALENDAR