BEGIN:VCALENDAR
VERSION:2.0
PRODID:-//ScaleUp Porto - ECPv5.1.5//NONSGML v1.0//EN
CALSCALE:GREGORIAN
METHOD:PUBLISH
X-WR-CALNAME:ScaleUp Porto
X-ORIGINAL-URL:https://scaleupporto.pt
X-WR-CALDESC:Events for ScaleUp Porto
BEGIN:VTIMEZONE
TZID:UTC
BEGIN:STANDARD
TZOFFSETFROM:+0000
TZOFFSETTO:+0000
TZNAME:UTC
DTSTART:20200101T000000
END:STANDARD
END:VTIMEZONE
BEGIN:VEVENT
DTSTART;TZID=UTC:20200324T180000
DTEND;TZID=UTC:20200324T190000
DTSTAMP:20260423T133103
CREATED:20200224T133341Z
LAST-MODIFIED:20230310T135145Z
UID:9724-1585072800-1585076400@scaleupporto.pt
SUMMARY:I-LEGAL CHAT: The Art to Start Up Well
DESCRIPTION:In an informal setting\, we will be discussing today’s legal issues involving innovation and the challenges that the legal system needs to face with the constant transformation of the technology. \nOn i-Legal Chat\, we will have open discussions\, Q&A and other methodologies to discuss trendy topics that innovation and technology brought up. We will try to anticipate the future of Law applying logical solutions. \nIt promises to create disruptive discussions that foster individual critical thinking. \n
URL:https://scaleupporto.pt/event/i-legal-chat-the-art-to-start-up-well-2/
LOCATION:Porto Business School\, Avenida Fabril do Norte\, 425\, Matosinhos\, 4460-314\, Portugal
ATTACH;FMTTYPE=image/jpeg:https://scaleupporto.pt/wp-content/uploads/2020/02/https___cdn.evbuc_.com_images_92512417_288776001347_1_original.jpg
END:VEVENT
END:VCALENDAR