BEGIN:VCALENDAR
VERSION:2.0
PRODID:-//ScaleUp Porto - ECPv5.1.5//NONSGML v1.0//EN
CALSCALE:GREGORIAN
METHOD:PUBLISH
X-WR-CALNAME:ScaleUp Porto
X-ORIGINAL-URL:https://scaleupporto.pt
X-WR-CALDESC:Events for ScaleUp Porto
BEGIN:VTIMEZONE
TZID:UTC
BEGIN:STANDARD
TZOFFSETFROM:+0000
TZOFFSETTO:+0000
TZNAME:UTC
DTSTART:20190101T000000
END:STANDARD
END:VTIMEZONE
BEGIN:VEVENT
DTSTART;TZID=UTC:20191003T190000
DTEND;TZID=UTC:20191003T210000
DTSTAMP:20260423T142439
CREATED:20190905T162551Z
LAST-MODIFIED:20230310T135124Z
UID:9128-1570129200-1570136400@scaleupporto.pt
SUMMARY:HUG PORTO 1# - Critical Techworks
DESCRIPTION:
URL:https://scaleupporto.pt/event/hug-porto-1-critical-techworks/
LOCATION:Critical Techworks\, Rua do Campo Alegre 17A\, Porto
ATTACH;FMTTYPE=image/png:https://scaleupporto.pt/wp-content/uploads/2019/09/Hashicorp.png
END:VEVENT
END:VCALENDAR