BEGIN:VCALENDAR
VERSION:2.0
PRODID:-//ScaleUp Porto - ECPv5.1.5//NONSGML v1.0//EN
CALSCALE:GREGORIAN
METHOD:PUBLISH
X-WR-CALNAME:ScaleUp Porto
X-ORIGINAL-URL:https://scaleupporto.pt
X-WR-CALDESC:Events for ScaleUp Porto
BEGIN:VTIMEZONE
TZID:UTC
BEGIN:STANDARD
TZOFFSETFROM:+0000
TZOFFSETTO:+0000
TZNAME:UTC
DTSTART:20200101T000000
END:STANDARD
END:VTIMEZONE
BEGIN:VEVENT
DTSTART;TZID=UTC:20200303T083000
DTEND;TZID=UTC:20200303T180000
DTSTAMP:20260423T134736
CREATED:20200228T101312Z
LAST-MODIFIED:20230310T135145Z
UID:9743-1583224200-1583258400@scaleupporto.pt
SUMMARY:Fórum Permanente para as Competências Digitais
DESCRIPTION:O Fórum Permanente para as Competências Digitais tem como objetivo dinamizar e articular um leque alargado de atores sociais e garantir uma ampla mobilização para a Iniciativa Nacional Competências Digitais e.2030 | Portugal INCoDe.2030 – incluindo uma conferência anual pública na qual serão apresentados e comentados os resultados da evolução por Eixo\, bem como apresentados casos nacionais e internacionais de boas práticas. \nO Fórum é presidido por Rogério Carapuça\, também Presidente da Associação Portuguesa para o Desenvolvimento das Comunicações\, APDC\, com o objetivo de mobilizar os portugueses para construírem uma sociedade mais justa e mais atenta à crescente mudança tecnológica\, fomentando mais inclusão no acesso ao conhecimento e na participação em redes de colaboração científica e tecnológica. \n
URL:https://scaleupporto.pt/event/forum-permanente-para-as-competencias-digitais/
LOCATION:Centro de Congressos da Alfândega\, Rua Nova da Alfândega - Edifício da Alfândega\, Porto\, Porto\, 4050-430 Porto\, Portugal
ATTACH;FMTTYPE=image/jpeg:https://scaleupporto.pt/wp-content/uploads/2020/02/incode_1500x500-01_0.jpg
END:VEVENT
END:VCALENDAR