BEGIN:VCALENDAR
VERSION:2.0
PRODID:-//ScaleUp Porto - ECPv5.1.5//NONSGML v1.0//EN
CALSCALE:GREGORIAN
METHOD:PUBLISH
X-WR-CALNAME:ScaleUp Porto
X-ORIGINAL-URL:https://scaleupporto.pt
X-WR-CALDESC:Events for ScaleUp Porto
BEGIN:VTIMEZONE
TZID:UTC
BEGIN:STANDARD
TZOFFSETFROM:+0000
TZOFFSETTO:+0000
TZNAME:UTC
DTSTART:20200101T000000
END:STANDARD
END:VTIMEZONE
BEGIN:VEVENT
DTSTART;TZID=UTC:20200708T180000
DTEND;TZID=UTC:20200708T190000
DTSTAMP:20260423T175539
CREATED:20200629T135707Z
LAST-MODIFIED:20230310T135157Z
UID:10871-1594231200-1594234800@scaleupporto.pt
SUMMARY:Expert Talks: Lisa Crispin - A Whole Team Approach to Quality in Continuous Delivery
DESCRIPTION:It’s not uncommon for teams practicing\, or moving towards\, continuous delivery to face a growing backlog of customer-reported bugs and struggle to maintain their deployment cadence. If a team has testers\, the testers may be expected to continue with their same testing activities\, without any thought as to how those can be fit into CD. Teams without testing specialists often struggle with insufficient coverage from their automated regression tests\, and they may miss serious problems entirely because of inadequate exploratory testing. \n
URL:https://scaleupporto.pt/event/expert-talks-lisa-crispin-a-whole-team-approach-to-quality-in-continuous-delivery/
ATTACH;FMTTYPE=image/png:https://scaleupporto.pt/wp-content/uploads/2020/06/expert-talks.png
END:VEVENT
END:VCALENDAR