BEGIN:VCALENDAR
VERSION:2.0
PRODID:-//ScaleUp Porto - ECPv5.1.5//NONSGML v1.0//EN
CALSCALE:GREGORIAN
METHOD:PUBLISH
X-WR-CALNAME:ScaleUp Porto
X-ORIGINAL-URL:https://scaleupporto.pt
X-WR-CALDESC:Events for ScaleUp Porto
BEGIN:VTIMEZONE
TZID:UTC
BEGIN:STANDARD
TZOFFSETFROM:+0000
TZOFFSETTO:+0000
TZNAME:UTC
DTSTART:20190101T000000
END:STANDARD
END:VTIMEZONE
BEGIN:VEVENT
DTSTART;TZID=UTC:20191120T093000
DTEND;TZID=UTC:20191120T180000
DTSTAMP:20260423T120409
CREATED:20191127T100839Z
LAST-MODIFIED:20230310T135124Z
UID:9467-1574242200-1574272800@scaleupporto.pt
SUMMARY:Entreprenow 2019
DESCRIPTION:The journey of the entrepreneurs that challenge the present to create the future.\nSuccess stories (hardworking ones!)\, challenges and setbacks\, new resources and ways to work and collaborate. \n
URL:https://scaleupporto.pt/event/entreprenow-2019/
LOCATION:Casa da Música
ATTACH;FMTTYPE=image/jpeg:https://scaleupporto.pt/wp-content/uploads/2019/11/Entreprenow-e1574852892283.jpg
END:VEVENT
END:VCALENDAR