BEGIN:VCALENDAR
VERSION:2.0
PRODID:-//ScaleUp Porto - ECPv5.1.5//NONSGML v1.0//EN
CALSCALE:GREGORIAN
METHOD:PUBLISH
X-WR-CALNAME:ScaleUp Porto
X-ORIGINAL-URL:https://scaleupporto.pt
X-WR-CALDESC:Events for ScaleUp Porto
BEGIN:VTIMEZONE
TZID:UTC
BEGIN:STANDARD
TZOFFSETFROM:+0000
TZOFFSETTO:+0000
TZNAME:UTC
DTSTART:20230101T000000
END:STANDARD
END:VTIMEZONE
BEGIN:VEVENT
DTSTART;TZID=UTC:20230228T120000
DTEND;TZID=UTC:20230228T130000
DTSTAMP:20260423T163722
CREATED:20230127T103641Z
LAST-MODIFIED:20230310T135405Z
UID:12173-1677585600-1677589200@scaleupporto.pt
SUMMARY:Entrepreneurial Act: Sessões temáticas - Minimum Viable Product presentation and pitching
DESCRIPTION: \nO webinar vai começar por abordar o conceito do Minimum Viable Product (MVP)\, no contexto de uma nova empresa ou do lançamento de um novo produto ou serviço no mercado\, explicando em que consiste e qual a importância de que se reveste quando queremos oferecer algo de novo ao mercado. \nMais informações: clique aqui \n
URL:https://scaleupporto.pt/event/entrepreneurial-act-sessoes-tematicas-minimum-viable-product-presentation-and-pitching/
END:VEVENT
END:VCALENDAR