BEGIN:VCALENDAR
VERSION:2.0
PRODID:-//ScaleUp Porto - ECPv5.1.5//NONSGML v1.0//EN
CALSCALE:GREGORIAN
METHOD:PUBLISH
X-WR-CALNAME:ScaleUp Porto
X-ORIGINAL-URL:https://scaleupporto.pt
X-WR-CALDESC:Events for ScaleUp Porto
BEGIN:VTIMEZONE
TZID:UTC
BEGIN:STANDARD
TZOFFSETFROM:+0000
TZOFFSETTO:+0000
TZNAME:UTC
DTSTART:20230101T000000
END:STANDARD
END:VTIMEZONE
BEGIN:VEVENT
DTSTART;TZID=UTC:20230131T120000
DTEND;TZID=UTC:20230131T130000
DTSTAMP:20260423T175930
CREATED:20230127T102740Z
LAST-MODIFIED:20230310T135405Z
UID:12161-1675166400-1675170000@scaleupporto.pt
SUMMARY:Entrepreneurial Act: Sessões temáticas - Human Centred Business Model
DESCRIPTION: \nIn today’s world\, businesses are expected to address environmental and social issues more actively. In this webinar\, we open up the concept of human-centred business. \nMore information: click here \n
URL:https://scaleupporto.pt/event/entrepreneurial-act-sessoes-tematicas-human-centred-business-model/
END:VEVENT
END:VCALENDAR