BEGIN:VCALENDAR
VERSION:2.0
PRODID:-//ScaleUp Porto - ECPv5.1.5//NONSGML v1.0//EN
CALSCALE:GREGORIAN
METHOD:PUBLISH
X-WR-CALNAME:ScaleUp Porto
X-ORIGINAL-URL:https://scaleupporto.pt
X-WR-CALDESC:Events for ScaleUp Porto
BEGIN:VTIMEZONE
TZID:UTC
BEGIN:STANDARD
TZOFFSETFROM:+0000
TZOFFSETTO:+0000
TZNAME:UTC
DTSTART:20230101T000000
END:STANDARD
END:VTIMEZONE
BEGIN:VEVENT
DTSTART;TZID=UTC:20230214T120000
DTEND;TZID=UTC:20230214T130000
DTSTAMP:20260423T151321
CREATED:20230127T103307Z
LAST-MODIFIED:20230310T135405Z
UID:12167-1676376000-1676379600@scaleupporto.pt
SUMMARY:Entrepreneurial Act: Sessões temáticas - Digital Marketing (R)evolution
DESCRIPTION: \nA consistent and strong approach to digital branding can be all you need to foster customer engagement and loyalty. Are you ready? \nMore information: click here \n
URL:https://scaleupporto.pt/event/entrepreneurial-act-sessoes-tematicas-digital-marketing-revolution/
END:VEVENT
END:VCALENDAR