BEGIN:VCALENDAR
VERSION:2.0
PRODID:-//ScaleUp Porto - ECPv5.1.5//NONSGML v1.0//EN
CALSCALE:GREGORIAN
METHOD:PUBLISH
X-WR-CALNAME:ScaleUp Porto
X-ORIGINAL-URL:https://scaleupporto.pt
X-WR-CALDESC:Events for ScaleUp Porto
BEGIN:VTIMEZONE
TZID:UTC
BEGIN:STANDARD
TZOFFSETFROM:+0000
TZOFFSETTO:+0000
TZNAME:UTC
DTSTART:20230101T000000
END:STANDARD
END:VTIMEZONE
BEGIN:VEVENT
DTSTART;TZID=UTC:20230328T173000
DTEND;TZID=UTC:20230328T200000
DTSTAMP:20260423T150736
CREATED:20230324T090440Z
LAST-MODIFIED:20230324T090440Z
UID:12455-1680024600-1680033600@scaleupporto.pt
SUMMARY:[Entrepreneurial Act] - Empreendedorismo no Turismo
DESCRIPTION: \nO Auditório EDP da Porto Business School vai receber um evento que junta turismo\, inovação e empreendedorismo. \nEste evento destina-se a quem quiser perceber como tem sido feita a transição digital deste setor tão relevante na economia portuguesa e quais os desafios que se aproximam. \nConta ainda com um momento único de networking – Meet&Connect – que vai juntar stakeholders do turismo com startups e investidores\, naquela que poderá ser uma oportunidade única de começar a moldar o futuro próximo do setor. \nReserve o seu lugar nesta jornada de descoberta!\nTodas as informações ? Aqui \nRegisto online | Evento gratuito \n
URL:https://scaleupporto.pt/event/entrepreneurial-act-empreendedorismo-no-turismo/
LOCATION:Porto Business School\, Avenida Fabril do Norte\, 425\, Matosinhos\, 4460-314\, Portugal
END:VEVENT
END:VCALENDAR