BEGIN:VCALENDAR
VERSION:2.0
PRODID:-//ScaleUp Porto - ECPv5.1.5//NONSGML v1.0//EN
CALSCALE:GREGORIAN
METHOD:PUBLISH
X-WR-CALNAME:ScaleUp Porto
X-ORIGINAL-URL:https://scaleupporto.pt
X-WR-CALDESC:Events for ScaleUp Porto
BEGIN:VTIMEZONE
TZID:Europe/Paris
BEGIN:DAYLIGHT
TZOFFSETFROM:+0100
TZOFFSETTO:+0200
TZNAME:CEST
DTSTART:20230326T010000
END:DAYLIGHT
BEGIN:STANDARD
TZOFFSETFROM:+0200
TZOFFSETTO:+0100
TZNAME:CET
DTSTART:20231029T010000
END:STANDARD
END:VTIMEZONE
BEGIN:VEVENT
DTSTART;TZID=Europe/Paris:20230620T140000
DTEND;TZID=Europe/Paris:20230620T160000
DTSTAMP:20260423T174817
CREATED:20230619T155226Z
LAST-MODIFIED:20230619T155435Z
UID:12614-1687269600-1687276800@scaleupporto.pt
SUMMARY:Encontro - The Circle 2023
DESCRIPTION: \n8º Encontro do The Circle – O objetivo deste encontro é reunir as pessoas\, empresas e entidades empreendedoras e criar ligações fortes entre os elementos da nossa comunidade. \nAgenda:\n14h00 – Welcome com Vice Reitor da Universidade do Porto para a Investigação e Inovação\, Pedro Rodrigues\n14h05 – Apresentação do Serviço de Investigação e Projetos da U.Porto\n14h15 – Case Studies de parcerias de investigação\n14h30 – Apresentação da nova Parceira: Câmara Municipal do Porto\n14h40 – Fast Pitch de desafios de investigação\n15h20 – Reunião Júri\n15h35 – Anúncio dos desafios vencedores\n15h40 – Encerramento. \n
URL:https://scaleupporto.pt/event/encontro-the-circle-2023/
LOCATION:UPTEC\, Rua Alfredo Allen 455/461\, Porto\, 4200-135\, Portugal
END:VEVENT
END:VCALENDAR