BEGIN:VCALENDAR
VERSION:2.0
PRODID:-//ScaleUp Porto - ECPv5.1.5//NONSGML v1.0//EN
CALSCALE:GREGORIAN
METHOD:PUBLISH
X-WR-CALNAME:ScaleUp Porto
X-ORIGINAL-URL:https://scaleupporto.pt
X-WR-CALDESC:Events for ScaleUp Porto
BEGIN:VTIMEZONE
TZID:UTC
BEGIN:STANDARD
TZOFFSETFROM:+0000
TZOFFSETTO:+0000
TZNAME:UTC
DTSTART:20200101T000000
END:STANDARD
END:VTIMEZONE
BEGIN:VEVENT
DTSTART;VALUE=DATE:20200501
DTEND;VALUE=DATE:20200506
DTSTAMP:20260423T122504
CREATED:20200428T171830Z
LAST-MODIFIED:20230310T135144Z
UID:10337-1588291200-1588723199@scaleupporto.pt
SUMMARY:e-Bynd Portfolio Week
DESCRIPTION:Join us at the e-Bynd Portfolio Week from the 11 to the 15th of May! \nIn the Bynd’s spirit of supporting our startups and the ecosystem\, we want to actively spiral all available resources\, relationships\, and networks to create a better future\, even more so in such a challenging moment. \nThe e-Bynd Portfolio Week is a way to maintain and develop strong connections that can help our startups to continue their work and path to success\, in a completely safe\, virtual environment. This event is possible due to Easy Virtual Fair\, a company that is part of our portfolio and has developed a platform to host dynamic online events. \nThe event will have the following program:\n(the schedule follows the Lisbon=London=GMT+1 time zone) \nDay 1 – Monday\, 11th May \n\n12:00 Fair opening\n15:00 – 15:30 Opening Session with Francisco Ferreira Pinto (Partner at Bynd)\n15:30 – 16:15 “VC Investment in Iberia” with Stephen Nundy (Investment Partner at Lakestar)\n\n\nDay 2 – Tuesday\, 12th May \n\n15:00 – 15:45 “B2B: The Veniam Case” with João Barros (Founder and CEO at Veniam)\n15:45 – 16:30 “B2C: Opportunities for Disruption” with José Del Barrio (Founding Partner at Samaipata)\n16:30 – 17:15 “Diversity: a Fundamental for Success” with Saniye Gülser Corat (Director for Gender Equality\, Cabinet of the Director-General\, UNESCO)\n\n\nDay 3 – Wednesday\, 13th May \n\n14:30 – 17:00 Online Pitch with Bynd’s Portfolio Companies – Session 1\n\nDay 4 – Thursday\, 14th May \n\n14:30 – 17:00 Online Pitch with Bynd’s Portfolio Companies – Session 2\n17:00 – 17:30 Pre-closing session with Francisco Ferreira Pinto (Partner at Bynd)\n\n\nDay 5 – Friday\, 15th May \n\n12:00 Fair closing\n\n
URL:https://scaleupporto.pt/event/e-bynd-portfolio-week/
LOCATION:Online
ATTACH;FMTTYPE=image/png:https://scaleupporto.pt/wp-content/uploads/2020/04/Screenshot-2020-04-28-at-19.16.45.png
END:VEVENT
END:VCALENDAR