BEGIN:VCALENDAR
VERSION:2.0
PRODID:-//ScaleUp Porto - ECPv5.1.5//NONSGML v1.0//EN
CALSCALE:GREGORIAN
METHOD:PUBLISH
X-WR-CALNAME:ScaleUp Porto
X-ORIGINAL-URL:https://scaleupporto.pt
X-WR-CALDESC:Events for ScaleUp Porto
BEGIN:VTIMEZONE
TZID:UTC
BEGIN:STANDARD
TZOFFSETFROM:+0000
TZOFFSETTO:+0000
TZNAME:UTC
DTSTART:20190101T000000
END:STANDARD
END:VTIMEZONE
BEGIN:VEVENT
DTSTART;TZID=UTC:20191025T090000
DTEND;TZID=UTC:20191026T180000
DTSTAMP:20260423T112358
CREATED:20190529T135251Z
LAST-MODIFIED:20230310T135124Z
UID:8642-1571994000-1572112800@scaleupporto.pt
SUMMARY:DSPT Day 2019
DESCRIPTION:O DSPT Day 2019 será um evento único em Portugal dedicado exclusivamente a temas relacionados com Ciência de Dados e Inteligência Artificial\, onde será possível juntar entidades profissionais da área\, pessoas ligadas à academia como também entusiastas e curiosos que pretendem enveredar por uma carreira profissional neste campo. A visão é que esta edição afirme o DSPT Day como uma referência não só nacional como internacional no que diz respeito ao campo de Ciência de Dados. \n
URL:https://scaleupporto.pt/event/dspt-day-2019/
ATTACH;FMTTYPE=image/png:https://scaleupporto.pt/wp-content/uploads/2019/05/DSPT-Day-2019.png
END:VEVENT
END:VCALENDAR