BEGIN:VCALENDAR
VERSION:2.0
PRODID:-//ScaleUp Porto - ECPv5.1.5//NONSGML v1.0//EN
CALSCALE:GREGORIAN
METHOD:PUBLISH
X-WR-CALNAME:ScaleUp Porto
X-ORIGINAL-URL:https://scaleupporto.pt
X-WR-CALDESC:Events for ScaleUp Porto
BEGIN:VTIMEZONE
TZID:UTC
BEGIN:STANDARD
TZOFFSETFROM:+0000
TZOFFSETTO:+0000
TZNAME:UTC
DTSTART:20200101T000000
END:STANDARD
END:VTIMEZONE
BEGIN:VEVENT
DTSTART;VALUE=DATE:20201112
DTEND;VALUE=DATE:20201114
DTSTAMP:20260423T120946
CREATED:20201016T075655Z
LAST-MODIFIED:20230310T135217Z
UID:11381-1605139200-1605311999@scaleupporto.pt
SUMMARY:DigiEduHack - Porto - Individual Skills Tracking for the 21st century
DESCRIPTION:
URL:https://scaleupporto.pt/event/digieduhack-porto-individual-skills-tracking-for-the-21st-century/
ATTACH;FMTTYPE=image/jpeg:https://scaleupporto.pt/wp-content/uploads/2020/10/digieduhack.jpg
END:VEVENT
END:VCALENDAR