BEGIN:VCALENDAR
VERSION:2.0
PRODID:-//ScaleUp Porto - ECPv5.1.5//NONSGML v1.0//EN
CALSCALE:GREGORIAN
METHOD:PUBLISH
X-WR-CALNAME:ScaleUp Porto
X-ORIGINAL-URL:https://scaleupporto.pt
X-WR-CALDESC:Events for ScaleUp Porto
BEGIN:VTIMEZONE
TZID:UTC
BEGIN:STANDARD
TZOFFSETFROM:+0000
TZOFFSETTO:+0000
TZNAME:UTC
DTSTART:20200101T000000
END:STANDARD
END:VTIMEZONE
BEGIN:VEVENT
DTSTART;TZID=UTC:20201017T140000
DTEND;TZID=UTC:20201017T180000
DTSTAMP:20260423T163322
CREATED:20201006T120322Z
LAST-MODIFIED:20230310T135217Z
UID:11325-1602943200-1602957600@scaleupporto.pt
SUMMARY:DevFest Portugal 2020 with GDG
DESCRIPTION:
URL:https://scaleupporto.pt/event/devfest-portugal-2020-with-gdg/
END:VEVENT
END:VCALENDAR