BEGIN:VCALENDAR
VERSION:2.0
PRODID:-//ScaleUp Porto - ECPv5.1.5//NONSGML v1.0//EN
CALSCALE:GREGORIAN
METHOD:PUBLISH
X-WR-CALNAME:ScaleUp Porto
X-ORIGINAL-URL:https://scaleupporto.pt
X-WR-CALDESC:Events for ScaleUp Porto
BEGIN:VTIMEZONE
TZID:UTC
BEGIN:STANDARD
TZOFFSETFROM:+0000
TZOFFSETTO:+0000
TZNAME:UTC
DTSTART:20190101T000000
END:STANDARD
END:VTIMEZONE
BEGIN:VEVENT
DTSTART;VALUE=DATE:20190928
DTEND;VALUE=DATE:20190929
DTSTAMP:20260423T112407
CREATED:20190826T102306Z
LAST-MODIFIED:20230310T135124Z
UID:9072-1569628800-1569715199@scaleupporto.pt
SUMMARY:Culture Cake
DESCRIPTION:An interactive conference on Company Culture. \nSupported by the ScaleUp Porto Call for Activities. \n
URL:https://scaleupporto.pt/event/culture-cake/
LOCATION:ANJE\, R. de Paulo da Gama\, Porto
ATTACH;FMTTYPE=image/png:https://scaleupporto.pt/wp-content/uploads/2019/08/Culture-Cake.png
END:VEVENT
END:VCALENDAR