BEGIN:VCALENDAR
VERSION:2.0
PRODID:-//ScaleUp Porto - ECPv5.1.5//NONSGML v1.0//EN
CALSCALE:GREGORIAN
METHOD:PUBLISH
X-WR-CALNAME:ScaleUp Porto
X-ORIGINAL-URL:https://scaleupporto.pt
X-WR-CALDESC:Events for ScaleUp Porto
BEGIN:VTIMEZONE
TZID:UTC
BEGIN:STANDARD
TZOFFSETFROM:+0000
TZOFFSETTO:+0000
TZNAME:UTC
DTSTART:20200101T000000
END:STANDARD
END:VTIMEZONE
BEGIN:VEVENT
DTSTART;TZID=UTC:20200304T140000
DTEND;TZID=UTC:20200304T180000
DTSTAMP:20260423T120939
CREATED:20200303T133645Z
LAST-MODIFIED:20230310T135145Z
UID:9820-1583330400-1583344800@scaleupporto.pt
SUMMARY:Conferência "Inovação Aberta em Portugal"
DESCRIPTION:A Agência Nacional de Inovação convida-o a participar na segunda Conferência “Inovação Aberta em Portugal” com a temática “Economia Circular e sustentabilidade dos territórios através da Inovação Aberta”. \nA iniciativa irá decorrer no dia 4 de março\, a partir das 14h00\, na Porto Business School. \n
URL:https://scaleupporto.pt/event/conferencia-inovacao-aberta-em-portugal/
LOCATION:Porto Business School\, Avenida Fabril do Norte\, 425\, Matosinhos\, 4460-314\, Portugal
ATTACH;FMTTYPE=image/jpeg:https://scaleupporto.pt/wp-content/uploads/2020/03/https-cdn.evbuc_.com-images-91906791-280606428866-1-original.20200211-085607.jpeg
END:VEVENT
END:VCALENDAR