BEGIN:VCALENDAR
VERSION:2.0
PRODID:-//ScaleUp Porto - ECPv5.1.5//NONSGML v1.0//EN
CALSCALE:GREGORIAN
METHOD:PUBLISH
X-WR-CALNAME:ScaleUp Porto
X-ORIGINAL-URL:https://scaleupporto.pt
X-WR-CALDESC:Events for ScaleUp Porto
BEGIN:VTIMEZONE
TZID:UTC
BEGIN:STANDARD
TZOFFSETFROM:+0000
TZOFFSETTO:+0000
TZNAME:UTC
DTSTART:20200101T000000
END:STANDARD
END:VTIMEZONE
BEGIN:VEVENT
DTSTART;TZID=UTC:20201027T183000
DTEND;TZID=UTC:20201027T190000
DTSTAMP:20260423T103532
CREATED:20201014T162401Z
LAST-MODIFIED:20230310T135217Z
UID:11347-1603823400-1603825200@scaleupporto.pt
SUMMARY:AMA - You didn't fail\, your product did
DESCRIPTION:\n\n\n\nQ&A Session with a Senior Product Manager used to fail. Lessons learned and paths for learning from failure while developing your product.\n\n\n\n\n\n\nAbout this Event\n\n\nProduct Managers are always in a rush\, speaking to users\, prioritising\, defining frameworks. But as you develop your product\, define and release new features\, you might feel you keep failing. \n\nHow can you remove yourself from the failure equation?\nHow to understand the failures and use them to your favour?\n\nSusana Lopes is a Senior Product Manager at Onfido. She will be with us to answer all your questions in a AMA (Ask-Me-Anything) Session. \n__\nAbout the Guest\nSusana Lopes is a Director of Product at Onfido\, based in London and looking after the Biometrics Line of Business. \nShe’s a seasoned B2B Product Manager with over 7 years of individual contributor experience. Susana now splits her time between managing and coaching product managers\, working on new value propositions\, and long-term strategy. \nA Bioengineer by training and proud data nerd with a MEng from Imperial College London\, Susana is into kickboxing\, bouldering\, and gardening. \n__ \nTogether with\nThis event is organized in partnership with the Product Management Nights Porto\, a group for product managers and people working/interested in product management. \nThe Product Management Nights are organized for the PM community by Product Management Festival Ambassadors. They meet during social informal “Product Nights” in Porto to exchange ideas & thoughts\, learn\, share experiences all around Product Management and connect. \n\n\n\n\n
URL:https://scaleupporto.pt/event/ama-you-didnt-fail-your-product-did/
CATEGORIES:Masterclass
ATTACH;FMTTYPE=image/jpeg:https://scaleupporto.pt/wp-content/uploads/2020/10/MasterClass-Onfido-–-Eventbrite.jpg
END:VEVENT
END:VCALENDAR