BEGIN:VCALENDAR
VERSION:2.0
PRODID:-//ScaleUp Porto - ECPv5.1.5//NONSGML v1.0//EN
CALSCALE:GREGORIAN
METHOD:PUBLISH
X-WR-CALNAME:ScaleUp Porto
X-ORIGINAL-URL:https://scaleupporto.pt
X-WR-CALDESC:Events for ScaleUp Porto
BEGIN:VTIMEZONE
TZID:UTC
BEGIN:STANDARD
TZOFFSETFROM:+0000
TZOFFSETTO:+0000
TZNAME:UTC
DTSTART:20230101T000000
END:STANDARD
END:VTIMEZONE
BEGIN:VEVENT
DTSTART;TZID=UTC:20230531T180000
DTEND;TZID=UTC:20230531T210000
DTSTAMP:20260423T133747
CREATED:20230508T150606Z
LAST-MODIFIED:20230526T102657Z
UID:12231-1685556000-1685566800@scaleupporto.pt
SUMMARY:#16 Above & Beyond Hangouts - Overcoming the biggest challenges in Healthtech
DESCRIPTION: \nNew technologies are revolutionizing the current healthcare system\, from the widespread adoption of new tech like health wearables and medical robotics to the ever-changing landscape of regulatory approvals. That is why healthcare leaders need to be aware of the latest trends in the industry to stay ahead of the competition. \nWe believe that the focus should now be on the democratization and accessibility of healthcare services by reducing medical costs\, shortening the patient journey\, easing hospital congestion\, improving city-hospital relationships\, and tackling medical desertification\, amongst others. What about you? \nYou’re invited to join this conversation with entrepreneurship experts to dive deeper into the healthcare innovation scene and understand its opportunities\, challenges\, growth expectations\, and much more. \nAGENDA \n0600 PM // OPEN DOORS \n0630 PM // ECOSYSTEM BRIEF w/ António Dias Martins (Startup Portugal) \n0640 PM // WARM UP PITCH \n– Glooma \n– Peaking Window \n– OrgaValue \n0655 PM // TALK Overcoming the biggest challenges in Healthtech \n– Micaela Seemann Monteiro (CUF Digital) \n– André Eiras dos Santos (Sword Health) \n– Jorge Pimenta (Instituto Pedro Nunes) \n– Vanessa Ribeiro (ACSS) \n– Carlos Alberto (Centro Hospitalar do Tâmega e Sousa) \n(moderated by) David Magboulé (Startup Portugal) \n0755 PM DRINKS + CONNECT \n
URL:https://scaleupporto.pt/event/above-beyond-hangouts-16/
LOCATION:Selina Porto\, Rua Das Oliveiras 65\, Porto\, Porto\, 4050-499\, Portugal
END:VEVENT
END:VCALENDAR