BEGIN:VCALENDAR
VERSION:2.0
PRODID:-//ScaleUp Porto - ECPv5.1.5//NONSGML v1.0//EN
CALSCALE:GREGORIAN
METHOD:PUBLISH
X-WR-CALNAME:ScaleUp Porto
X-ORIGINAL-URL:https://scaleupporto.pt
X-WR-CALDESC:Events for ScaleUp Porto
BEGIN:VTIMEZONE
TZID:UTC
BEGIN:STANDARD
TZOFFSETFROM:+0000
TZOFFSETTO:+0000
TZNAME:UTC
DTSTART:20230101T000000
END:STANDARD
END:VTIMEZONE
BEGIN:VEVENT
DTSTART;TZID=UTC:20230426T180000
DTEND;TZID=UTC:20230426T210000
DTSTAMP:20260423T133747
CREATED:20230408T150653Z
LAST-MODIFIED:20230426T074251Z
UID:12230-1682532000-1682542800@scaleupporto.pt
SUMMARY:#15 Above & Beyond Hangouts - Advancing Industrial Tech.
DESCRIPTION: \nAproxima-se uma nova edição dos Above & Beyond Hangouts! \nNo dia 26 de abril\, às 18h\, o ecossistema de empreendedorismo irá discutir “Advancing Industrial Tech”\, simultaneamente no Porto\, em Lisboa e online. \nA Divisão de Empreendedorismo da Câmara Municipal do Porto e a UPTEC são os parceiros da cidade em mais uma edição deste evento da Startup Portugal. \nGostaríamos muito de contar com a sua presença e com o seu apoio na divulgação desta iniciativa a todos os interessados. \nJunte-se a nós e aos principais atores do ecossistema empreendedor do Porto! \nParticipação gratuita sujeita a inscrição. \nMais informações e inscrições ? aqui! \n__ \nBe a part of the future! Join the entrepreneurial ecosystem and learn more about Industry 4.0! ? \nThe factories of the future are just around the corner\, and Portugal is leading the charge! \nThis month’s Above & Beyond Hangout is happening on Wednesday\, April 26th at 6pm\, at Easy at Selina in Porto\, Ferroviário in Lisbon\, and online. \nOur topic for this month is “Advancing Industrial Tech”\, and you’ll have the chance to hear from experts who are pushing the boundaries of the industry in the entrepreneurial ecosystem. ? \nJoin us and become a part of the next revolution in the entrepreneurial industry. See you there! ? \nMore details and registration ? here \n  \nAGENDA \n0600 PM // OPEN DOORS \n0630 PM // ECOSYSTEM BRIEF w/ António Dias Martins (Startup Portugal) \n0640 PM // WARM UP PITCH \n– Infinite Foundry \n– Sentinel (TBC) \n– Fractal Mind \n0655 PM // TALK Advancing Industrial Tech \n– Representative at (CEiiA) \n– Catarina Violante (Smartex) \n– Luís Martins (KIT-AR) \n(moderated by) Francisco Almada Lobo (Critical Manufacturing) \n0755 PM // DRINKS + CONNECT \n
URL:https://scaleupporto.pt/event/above-beyond-hangouts-15/
LOCATION:Selina Porto\, Rua Das Oliveiras 65\, Porto\, Porto\, 4050-499\, Portugal
END:VEVENT
END:VCALENDAR