BEGIN:VCALENDAR
VERSION:2.0
PRODID:-//ScaleUp Porto - ECPv5.1.5//NONSGML v1.0//EN
CALSCALE:GREGORIAN
METHOD:PUBLISH
X-WR-CALNAME:ScaleUp Porto
X-ORIGINAL-URL:https://scaleupporto.pt
X-WR-CALDESC:Events for ScaleUp Porto
BEGIN:VTIMEZONE
TZID:UTC
BEGIN:STANDARD
TZOFFSETFROM:+0000
TZOFFSETTO:+0000
TZNAME:UTC
DTSTART:20230101T000000
END:STANDARD
END:VTIMEZONE
BEGIN:VEVENT
DTSTART;TZID=UTC:20230329T180000
DTEND;TZID=UTC:20230329T210000
DTSTAMP:20260423T133737
CREATED:20230308T150513Z
LAST-MODIFIED:20230324T091046Z
UID:12229-1680112800-1680123600@scaleupporto.pt
SUMMARY:#14 Above & Beyond Hangouts - AI opportunities for startups
DESCRIPTION: \nAproxima-se mais uma edição dos Above & Beyond Hangouts! \nO Above & Beyond Hangout deste mês será dia 29 de Março e o ecossistema de empreendedorismo irá discutir “AI Opportunities for Startups”. ? \nA Divisão de Empreendedorismo da Câmara Municipal do Porto e a UPTEC – Science and Technology Park of University of Porto são os parceiros no Porto deste evento da Startup Portugal. \nNão perca a oportunidade de aprender mais sobre a evolução e o futuro desta tecnologia! \nMais informações e inscrições ? Aqui\n__ \nAnother edition of Above & Beyond Hangouts is on the way! \nThe entrepreneurship ecosystem will discuss “AI Opportunities for Startups” at this month’s Above & Beyond Hangout on March 29th. ? \nThe Entrepreneurship Unit of Porto City Council and UPTEC are the partners in Porto for this Startup Portugal event. \nDon’t pass up this chance to learn more about this technology’s evolution and future! \nMore details and registration ? Here \n  \nAGENDA \n0600 PM // OPEN DOORS \n0630 PM // ECOSYSTEM BRIEF w/ António Dias Martins\, Executive Director at Startup Portugal \n0640 PM // WARM UP PITCH \n– Emotai \n– DIGESTAID \n– Bandora Systems \n0655 PM // TALK AI Opportunities for Startups \n– Dr. Jorge da Ponte\, Vice-Presidente do Conselho Diretivo do Instituto dos Registos e do Notoriado \n– Pedro Silveira\, key account manager and responsible for the startup ecosystem at AICEP Portugal Global \n– Humberto Ayres Pereira\, Founder & CEO Rows \n– More info soon \n(moderated by) Rute Sousa Vasco\, Publisher at MadreMedia \n0755 PM DRINKS + CONNECT \n
URL:https://scaleupporto.pt/event/above-beyond-hangouts-14/
LOCATION:Easy at Selina Porto\, Rua das Oliveiras\, 65\, Porto\, Porto\, 4050-449 Porto\, Portugal
END:VEVENT
END:VCALENDAR